BEGIN:VCALENDAR
VERSION:2.0
PRODID:-//InvisionCommunity Events 4.7.24//EN
METHOD:PUBLISH
CALSCALE:GREGORIAN
REFRESH-INTERVAL:PT15M
X-PUBLISHED-TTL:PT15M
X-WR-CALNAME:DCMM Club Calendar
NAME:DCMM Club Calendar
BEGIN:VTIMEZONE
TZID:Europe/London
TZURL:http://tzurl.org/zoneinfo/Europe/London
X-LIC-LOCATION:Europe/London
BEGIN:DAYLIGHT
TZOFFSETFROM:+0000
TZOFFSETTO:+0100
TZNAME:BST
DTSTART:20260329T020000Z
RRULE:FREQ=YEARLY;BYMONTH=3;BYDAY=-1SU
END:DAYLIGHT
BEGIN:STANDARD
TZOFFSETFROM:+0100
TZOFFSETTO:+0000
TZNAME:GMT
DTSTART:20261025T020000Z
RRULE:FREQ=YEARLY;BYMONTH=10;BYDAY=-1SU
END:STANDARD
END:VTIMEZONE
BEGIN:VEVENT
SUMMARY:The Mistress Run (Southern start!)
DTSTAMP:20260117T211718Z
SEQUENCE:0
UID:908-1-481082abbf5b614c3f843e6f2c1af318@dcmetrominis.org
ORGANIZER;CN="SusieQ":webmaster@dcmetrominis.org
DESCRIPTION:\n	The Mistress Run is here! (Pushing out to weekend after V
	alentine's Day.) And why not spend it with that special someone and/or wit
	h our MINIs (Mistress). \n\n\n\n	 \n\n\n\n	Start Point: National Museum
	 of the Marine Corps\n\n\n\n	                    1775 Semper Fi
	delis Wy\n\n\n\n	                    Triangle\, VA 22172\n\n	 \
	n\n\n\n	Lunch Stop: Vinny's Grill &amp\; Pizzeria\n\n\n\n	       
	              11085 Marsh Rd\n\n\n\n	                   
	  Bealeton\, VA 22712\n\n\n\n	 \n\n\n\n	After lunch we will continue wes
	t and north through Culpeper and into wine country\, the route is nearly a
	pproximately 1 hour and a half of continuous country roads that are a grea
	t combination of sweeping turns\, rolling roads\, and tight twisties while
	 enjoying countryside views ending at one of the great wineries in the Hum
	e area.\n\n\n\n	 \n\n\n\n	End Point: Three Fox Vineyard &amp\; Brewery\n
	\n\n\n	                  10100 Three Fox Lane\n\n\n\n	  
	                Delaplane\, VA 20144 (dog friendly establishment)
	 \n\n\n\n	                    \n\n\n\n	Schedule of events:\n\n
	\n\n	10:00AM: Driver’s meeting\n\n\n\n	10:15AM: Run Starts\n\n\n\n	11:30
	AM: Lunch stop\n\n\n\n	  1:00PM: Start afternoon leg\n\n\n\n	  2:30PM: E
	nd point\n\n
DTSTART:20260221T150000Z
DTEND:20260221T200000Z
ATTENDEE;CN="Duke";CUTYPE=INDIVIDUAL;PARTSTAT=ACCEPTED:webma
	ster@dcmetrominis.org
ATTENDEE;CN="SusieQ";CUTYPE=INDIVIDUAL;PARTSTAT=ACCEPTED:web
	master@dcmetrominis.org
ATTENDEE;CN="NYRican MC40";CUTYPE=INDIVIDUAL;PARTSTAT=ACCEPT
	ED:webmaster@dcmetrominis.org
ATTENDEE;CN="TheEnglishBeat";CUTYPE=INDIVIDUAL;PARTSTAT=ACCE
	PTED:webmaster@dcmetrominis.org
ATTENDEE;CN="1975_mini";CUTYPE=INDIVIDUAL;PARTSTAT=ACCEPTED:
	webmaster@dcmetrominis.org
ATTENDEE;CN="Brandy_Brown";CUTYPE=INDIVIDUAL;PARTSTAT=ACCEPT
	ED:webmaster@dcmetrominis.org
ATTENDEE;CN="Perry";CUTYPE=INDIVIDUAL;PARTSTAT=ACCEPTED:webm
	aster@dcmetrominis.org
ATTENDEE;CN="Dale Blankenship";CUTYPE=INDIVIDUAL;PARTSTAT=AC
	CEPTED:webmaster@dcmetrominis.org
ATTENDEE;CN="Justin Cahill";CUTYPE=INDIVIDUAL;PARTSTAT=ACCEP
	TED:webmaster@dcmetrominis.org
ATTENDEE;CN="Maria J";CUTYPE=INDIVIDUAL;PARTSTAT=ACCEPTED:we
	bmaster@dcmetrominis.org
ATTENDEE;CN="PPRMINI";CUTYPE=INDIVIDUAL;PARTSTAT=ACCEPTED:we
	bmaster@dcmetrominis.org
ATTENDEE;CN="MINIFIED";CUTYPE=INDIVIDUAL;PARTSTAT=ACCEPTED:w
	ebmaster@dcmetrominis.org
END:VEVENT
END:VCALENDAR
