BEGIN:VCALENDAR
VERSION:2.0
PRODID:-//InvisionCommunity Events 4.7.24//EN
METHOD:PUBLISH
CALSCALE:GREGORIAN
REFRESH-INTERVAL:PT15M
X-PUBLISHED-TTL:PT15M
X-WR-CALNAME:DCMM Club Calendar
NAME:DCMM Club Calendar
BEGIN:VTIMEZONE
TZID:Europe/London
TZURL:http://tzurl.org/zoneinfo/Europe/London
X-LIC-LOCATION:Europe/London
BEGIN:DAYLIGHT
TZOFFSETFROM:+0000
TZOFFSETTO:+0100
TZNAME:BST
DTSTART:20250330T020000Z
RRULE:FREQ=YEARLY;BYMONTH=3;BYDAY=-1SU
END:DAYLIGHT
BEGIN:STANDARD
TZOFFSETFROM:+0100
TZOFFSETTO:+0000
TZNAME:GMT
DTSTART:20251026T020000Z
RRULE:FREQ=YEARLY;BYMONTH=10;BYDAY=-1SU
END:STANDARD
END:VTIMEZONE
BEGIN:VEVENT
SUMMARY:Board Meeting
DTSTAMP:20251116T224010Z
SEQUENCE:0
UID:904-1-481082abbf5b614c3f843e6f2c1af318@dcmetrominis.org
ORGANIZER;CN="PlaidSneakers":webmaster@dcmetrominis.org
DESCRIPTION:\n	\n		\n			\n				Apologies for the late posting\, but here 
	is the link to join us on Zoom.\n			\n\n			\n				 \n			\n\n			\n				818 5
	015 3606\n			\n		\n\n		\n			\n				Passcode\n			\n\n			\n				201844\n			\n	
		\n\n		\n			\n				Invite link\n			\n\n			\n				https://us06web.zoom.us/j/8
	1850153606?pwd=rhHhMspxAVfI7oLlusUBBkKtF7IJsU.1\n			\n		\n\n		\n			\n				H
	ost\n			\n\n			\n				Board Dcmm\n			\n		\n\n		\n			\n				Participant ID\n	
			\n\n			\n				620791\n			\n		\n	\n\n\n\n	\n	 \n\n
DTSTART;VALUE=DATE:20251116
END:VEVENT
END:VCALENDAR
