BEGIN:VCALENDAR
VERSION:2.0
PRODID:-//InvisionCommunity Events 4.7.24//EN
METHOD:PUBLISH
CALSCALE:GREGORIAN
REFRESH-INTERVAL:PT15M
X-PUBLISHED-TTL:PT15M
X-WR-CALNAME:DCMM Club Calendar
NAME:DCMM Club Calendar
BEGIN:VTIMEZONE
TZID:Europe/London
TZURL:http://tzurl.org/zoneinfo/Europe/London
X-LIC-LOCATION:Europe/London
BEGIN:DAYLIGHT
TZOFFSETFROM:+0000
TZOFFSETTO:+0100
TZNAME:BST
DTSTART:20240331T020000Z
RRULE:FREQ=YEARLY;BYMONTH=3;BYDAY=-1SU
END:DAYLIGHT
BEGIN:STANDARD
TZOFFSETFROM:+0100
TZOFFSETTO:+0000
TZNAME:GMT
DTSTART:20241027T020000Z
RRULE:FREQ=YEARLY;BYMONTH=10;BYDAY=-1SU
END:STANDARD
END:VTIMEZONE
BEGIN:VEVENT
SUMMARY:🍂Luray VA Run-New Date!
DTSTAMP:20241001T105305Z
SEQUENCE:0
UID:864-1-481082abbf5b614c3f843e6f2c1af318@dcmetrominis.org
ORGANIZER;CN="STXMINI":webmaster@dcmetrominis.org
DESCRIPTION:\n	Please join us for a Sunday run to Luray and back through
	 Virginia’s rolling countryside.\n\n\n\n	 \n\n\n\n	Our drive will begin
	 at the Walmart in Haymarket where we will head west through the rolling c
	ountryside of Virginia.  We will make a quick bio-break in Front Royal b
	efore heading to one of the finest twisty roads in the Shenandoah Valley.
	  Nicknamed the Valley within a Valley\, Fort Valley Road will wind us a
	long Passage Creek before rising to Edith’s Gap Lookout where you will s
	ee a stunning view of the valley towards Luray.  A quick 90 degree turn 
	at the base of the mountain\, over the South Fork of the Shenandoah River\
	, and we will arrive in Luray\, Virginia.\n\n\n\n	 \n\n\n\n	At this point
	\, we will have a bite to eat in Luray before beginning our drive back to 
	Haymarket.  We will wind our way over the mountain and under Skyline Dri
	ve before cruising through the quaint town of Washington.  We will conti
	nue traveling on some twisties until we reach our destination of The Farm 
	Brewery at Broad Run.\n\n\n\n	 \n\n\n\n	If you would like to head to Lura
	y Caverns and break away from the main group\, just let me know when we st
	op for our bite to eat\, and I will give you directions to the Caverns.\n\
	n\n\n	 \n\n\n\n	So\, if you like quick twisties\, beautiful scenery and r
	elaxing old town charm\, you won’t want to miss this Little Virginia Jou
	rney.\n\n\n\n	 \n\n\n\n	Start Point:  Walmart – 6530 Trading Sq\, Hay
	market\, VA\n\n\n\n	End Point:  The Farm Brewery at Broad Run – 16015 
	John Marshall Hwy\, Broad Run\, VA (Really Haymarket)\n\n\n\n	 \n\n\n\n	S
	chedule of events:\n\n\n\n	 \n\n\n\n	10:00 - Driver’s Meeting \n\n\n\n
		10:15 -  Run Starts\n\n\n\n	11:00 - Bio-break McDonalds\, Front Royal\n\
	n\n\n	12:15 - Arrive Luray\, Lunch at either Ollie Cafe or West Main Marke
	t Garden\n\n\n\n	1:15 - Leave Luray\n\n\n\n	2:45 - End run at The Farm Bre
	wery at Broad Run\, Haymarket\n\n\n\n	 \n\n\n\n	RSVP on the event here: 
	\n\n
DTSTART:20241020T140000Z
DTEND:20241020T184500Z
ATTENDEE;CN="STXMINI";CUTYPE=INDIVIDUAL;PARTSTAT=ACCEPTED:we
	bmaster@dcmetrominis.org
ATTENDEE;CN="1975_mini";CUTYPE=INDIVIDUAL;PARTSTAT=ACCEPTED:
	webmaster@dcmetrominis.org
ATTENDEE;CN="donemcclure";CUTYPE=INDIVIDUAL;PARTSTAT=ACCEPTE
	D:webmaster@dcmetrominis.org
ATTENDEE;CN="scotty";CUTYPE=INDIVIDUAL;PARTSTAT=ACCEPTED:web
	master@dcmetrominis.org
ATTENDEE;CN="NUTTY";CUTYPE=INDIVIDUAL;PARTSTAT=ACCEPTED:webm
	aster@dcmetrominis.org
ATTENDEE;CN="MELO-R56";CUTYPE=INDIVIDUAL;PARTSTAT=ACCEPTED:w
	ebmaster@dcmetrominis.org
ATTENDEE;CN="evantyler";CUTYPE=INDIVIDUAL;PARTSTAT=ACCEPTED:
	webmaster@dcmetrominis.org
ATTENDEE;CN="lynda";CUTYPE=INDIVIDUAL;PARTSTAT=ACCEPTED:webm
	aster@dcmetrominis.org
ATTENDEE;CN="JohnDanielPreston";CUTYPE=INDIVIDUAL;PARTSTAT=A
	CCEPTED:webmaster@dcmetrominis.org
ATTENDEE;CN="Laura H";CUTYPE=INDIVIDUAL;PARTSTAT=ACCEPTED:we
	bmaster@dcmetrominis.org
ATTENDEE;CN="mike.cars";CUTYPE=INDIVIDUAL;PARTSTAT=ACCEPTED:
	webmaster@dcmetrominis.org
ATTENDEE;CN="NYRican MC40";CUTYPE=INDIVIDUAL;PARTSTAT=ACCEPT
	ED:webmaster@dcmetrominis.org
ATTENDEE;CN="Perry";CUTYPE=INDIVIDUAL;PARTSTAT=ACCEPTED:webm
	aster@dcmetrominis.org
END:VEVENT
END:VCALENDAR
