BEGIN:VCALENDAR
VERSION:2.0
PRODID:-//InvisionCommunity Events 4.7.24//EN
METHOD:PUBLISH
CALSCALE:GREGORIAN
REFRESH-INTERVAL:PT15M
X-PUBLISHED-TTL:PT15M
X-WR-CALNAME:DCMM Club Calendar
NAME:DCMM Club Calendar
BEGIN:VTIMEZONE
TZID:Europe/London
TZURL:http://tzurl.org/zoneinfo/Europe/London
X-LIC-LOCATION:Europe/London
BEGIN:DAYLIGHT
TZOFFSETFROM:+0000
TZOFFSETTO:+0100
TZNAME:BST
DTSTART:20240331T020000Z
RRULE:FREQ=YEARLY;BYMONTH=3;BYDAY=-1SU
END:DAYLIGHT
BEGIN:STANDARD
TZOFFSETFROM:+0100
TZOFFSETTO:+0000
TZNAME:GMT
DTSTART:20241027T020000Z
RRULE:FREQ=YEARLY;BYMONTH=10;BYDAY=-1SU
END:STANDARD
END:VTIMEZONE
BEGIN:VEVENT
SUMMARY:⚠️POSTPONED-Luray VA Run
DTSTAMP:20240825T111227Z
SEQUENCE:0
UID:860-1-481082abbf5b614c3f843e6f2c1af318@dcmetrominis.org
ORGANIZER;CN="STXMINI":webmaster@dcmetrominis.org
DESCRIPTION:\n	Hey friends\, David has let us know that he contracted Co
	vid\, so he can not do the run on Sunday. With the unpredictability of the
	 weather and for the safety of our members\, we have decided to POSTPONE t
	he run until mid-October.\n\n	New date TBD\n\n\n\n	 \n\n\n\n	We wish Davi
	d @Widdie a speedy recovery!\n\n\n\n	 \n\n\n\n	_________________________
	_____________________________________________________\n\n\n\n	 \n\n\n\n	P
	lease join us for a Sunday run to Luray and back through Virginia’s roll
	ing countryside.\n\n\n\n	 \n\n\n\n	Our drive will begin at the Walmart in
	 Haymarket where we will head west through the rolling countryside of Virg
	inia.  We will make a quick bio-break in Front Royal before heading to o
	ne of the finest twisty roads in the Shenandoah Valley.  Nicknamed the V
	alley within a Valley\, Fort Valley Road will wind us along Passage Creek 
	before rising to Edith’s Gap Lookout where you will see a stunning view 
	of the valley towards Luray.  A quick 90 degree turn at the base of the 
	mountain\, over the South Fork of the Shenandoah River\, and we will arriv
	e in Luray\, Virginia.\n\n\n\n	 \n\n\n\n	At this point\, we will have a b
	ite to eat in Luray before beginning our drive back to Haymarket.  We wi
	ll wind our way over the mountain and under Skyline Drive before cruising 
	through the quaint town of Washington.  We will continue traveling on so
	me twisties until we reach our destination of The Farm Brewery at Broad Ru
	n.\n\n\n\n	 \n\n\n\n	If you would like to head to Luray Caverns and break
	 away from the main group\, just let me know when we stop for our bite to 
	eat\, and I will give you directions to the Caverns.\n\n\n\n	 \n\n\n\n	So
	\, if you like quick twisties\, beautiful scenery and relaxing old town ch
	arm\, you won’t want to miss this Little Virginia Journey.\n\n\n\n	 \n\
	n\n\n	Start Point:  Walmart – 6530 Trading Sq\, Haymarket\, VA\n\n\n\n	
	End Point:  The Farm Brewery at Broad Run – 16015 John Marshall Hwy\, B
	road Run\, VA (Really Haymarket)\n\n\n\n	 \n\n\n\n	Schedule of events:\n\
	n\n\n	 \n\n\n\n	10:00 - Driver’s Meeting \n\n\n\n	10:15 -  Run Starts
	\n\n\n\n	11:00 - Bio-break McDonalds\, Front Royal\n\n\n\n	12:15 - Arrive 
	Luray\, Lunch at either Ollie Cafe or West Main Market Garden\n\n\n\n	1:15
	 - Leave Luray\n\n\n\n	2:45 - End run at The Farm Brewery at Broad Run\, H
	aymarket\n\n
DTSTART:20240929T140000Z
DTEND:20240929T190000Z
ATTENDEE;CN="SneakyBaron";CUTYPE=INDIVIDUAL;PARTSTAT=ACCEPTE
	D:webmaster@dcmetrominis.org
ATTENDEE;CN="STXMINI";CUTYPE=INDIVIDUAL;PARTSTAT=ACCEPTED:we
	bmaster@dcmetrominis.org
ATTENDEE;CN="NUTTY";CUTYPE=INDIVIDUAL;PARTSTAT=ACCEPTED:webm
	aster@dcmetrominis.org
ATTENDEE;CN="MINIFIED";CUTYPE=INDIVIDUAL;PARTSTAT=ACCEPTED:w
	ebmaster@dcmetrominis.org
ATTENDEE;CN="evantyler";CUTYPE=INDIVIDUAL;PARTSTAT=ACCEPTED:
	webmaster@dcmetrominis.org
ATTENDEE;CN="Laura H";CUTYPE=INDIVIDUAL;PARTSTAT=ACCEPTED:we
	bmaster@dcmetrominis.org
ATTENDEE;CN="Amanda Green";CUTYPE=INDIVIDUAL;PARTSTAT=ACCEPT
	ED:webmaster@dcmetrominis.org
ATTENDEE;CN="Sakura";CUTYPE=INDIVIDUAL;PARTSTAT=ACCEPTED:web
	master@dcmetrominis.org
ATTENDEE;CN="Gary";CUTYPE=INDIVIDUAL;PARTSTAT=ACCEPTED:webma
	ster@dcmetrominis.org
ATTENDEE;CN="NYRican MC40";CUTYPE=INDIVIDUAL;PARTSTAT=ACCEPT
	ED:webmaster@dcmetrominis.org
ATTENDEE;CN="MELO-R56";CUTYPE=INDIVIDUAL;PARTSTAT=ACCEPTED:w
	ebmaster@dcmetrominis.org
ATTENDEE;CN="lorgy123";CUTYPE=INDIVIDUAL;PARTSTAT=ACCEPTED:w
	ebmaster@dcmetrominis.org
ATTENDEE;CN="Perry";CUTYPE=INDIVIDUAL;PARTSTAT=ACCEPTED:webm
	aster@dcmetrominis.org
ATTENDEE;CN="Brandy_Brown";CUTYPE=INDIVIDUAL;PARTSTAT=ACCEPT
	ED:webmaster@dcmetrominis.org
END:VEVENT
END:VCALENDAR
