BEGIN:VCALENDAR
VERSION:2.0
PRODID:-//InvisionCommunity Events 4.7.24//EN
METHOD:PUBLISH
CALSCALE:GREGORIAN
REFRESH-INTERVAL:PT15M
X-PUBLISHED-TTL:PT15M
X-WR-CALNAME:DCMM Club Calendar
NAME:DCMM Club Calendar
BEGIN:VTIMEZONE
TZID:Europe/London
TZURL:http://tzurl.org/zoneinfo/Europe/London
X-LIC-LOCATION:Europe/London
BEGIN:DAYLIGHT
TZOFFSETFROM:+0000
TZOFFSETTO:+0100
TZNAME:BST
DTSTART:20240331T020000Z
RRULE:FREQ=YEARLY;BYMONTH=3;BYDAY=-1SU
END:DAYLIGHT
BEGIN:STANDARD
TZOFFSETFROM:+0100
TZOFFSETTO:+0000
TZNAME:GMT
DTSTART:20241027T020000Z
RRULE:FREQ=YEARLY;BYMONTH=10;BYDAY=-1SU
END:STANDARD
END:VTIMEZONE
BEGIN:VEVENT
SUMMARY:Maryland Creamery Run
DTSTAMP:20240601T131051Z
SEQUENCE:0
UID:857-1-481082abbf5b614c3f843e6f2c1af318@dcmetrominis.org
ORGANIZER;CN="1975_mini":webmaster@dcmetrominis.org
DESCRIPTION:\n	It’s time to check out those great creameries scattered
	 across central Maryland again\, it is the annual creamery run. We will be
	 starting in Frederick\, MD and winding our way through some great roads t
	o 3 different creameries\, and an optional 4th\, to get those VA drivers b
	ack south of the river. Check out the details below and RSVP for an aftern
	oon of fun.\n\n\n\n	 \n\n\n\n	We have included the estimated arrival time
	s for each creamery in case someone wants to join mid-run. If you intend t
	o join mid-run please let us know in the comments after you RSVP.\n\n\n\n	
	 \n\n\n\n	Ice Cream Shops\n\n\n\n	1st Stop: Rocky Point Creamery (MD) h
	ttps://www.rockypointcreamery.com/\n\n\n\n	2nd Stop: South Mountain Cream
	y (MD) https://southmountaincreamery.com/\n\n\n\n	3rd Stop: Misty Mounta
	in Creamy (MD) http://www.mistymeadowsfarmcreamery.com/\n\n\n\n	 \n\n\n\
	n	Start Point: Pinecliff Park\n\n\n\n	8350 Pinecliff Park Rd\, Frederick\
	, Md\n\n\n\n	  \n\n\n\n	Schedule:\n\n\n\n	Driver’s Meeting: 1045\n\n\n
	\n	Rolling Out: 1100\n\n\n\n	Rock Point: 1140\n\n\n\n	Roll Out: 1225\n\n\n
	\n	South Mountain: 1255\n\n\n\n	Roll Out: 1340\n\n\n\n	Misty Mountain: 144
	0\n\n
DTSTART:20240824T144500Z
DTEND:20240824T180000Z
ATTENDEE;CN="1975_mini";CUTYPE=INDIVIDUAL;PARTSTAT=ACCEPTED:
	webmaster@dcmetrominis.org
ATTENDEE;CN="Duke";CUTYPE=INDIVIDUAL;PARTSTAT=ACCEPTED:webma
	ster@dcmetrominis.org
ATTENDEE;CN="Zach";CUTYPE=INDIVIDUAL;PARTSTAT=ACCEPTED:webma
	ster@dcmetrominis.org
ATTENDEE;CN="Sakura";CUTYPE=INDIVIDUAL;PARTSTAT=ACCEPTED:web
	master@dcmetrominis.org
ATTENDEE;CN="Jenski";CUTYPE=INDIVIDUAL;PARTSTAT=ACCEPTED:web
	master@dcmetrominis.org
ATTENDEE;CN="JamiLouWho";CUTYPE=INDIVIDUAL;PARTSTAT=ACCEPTED
	:webmaster@dcmetrominis.org
ATTENDEE;CN="NUTTY";CUTYPE=INDIVIDUAL;PARTSTAT=ACCEPTED:webm
	aster@dcmetrominis.org
ATTENDEE;CN="Gary";CUTYPE=INDIVIDUAL;PARTSTAT=ACCEPTED:webma
	ster@dcmetrominis.org
ATTENDEE;CN="tommyboyiceman";CUTYPE=INDIVIDUAL;PARTSTAT=ACCE
	PTED:webmaster@dcmetrominis.org
ATTENDEE;CN="Sandi M.";CUTYPE=INDIVIDUAL;PARTSTAT=ACCEPTED:w
	ebmaster@dcmetrominis.org
ATTENDEE;CN="Atomic Monkey";CUTYPE=INDIVIDUAL;PARTSTAT=ACCEP
	TED:webmaster@dcmetrominis.org
ATTENDEE;CN="Perry";CUTYPE=INDIVIDUAL;PARTSTAT=ACCEPTED:webm
	aster@dcmetrominis.org
ATTENDEE;CN="Paul R";CUTYPE=INDIVIDUAL;PARTSTAT=ACCEPTED:web
	master@dcmetrominis.org
ATTENDEE;CN="Grarteaga";CUTYPE=INDIVIDUAL;PARTSTAT=ACCEPTED:
	webmaster@dcmetrominis.org
ATTENDEE;CN="Sentinel";CUTYPE=INDIVIDUAL;PARTSTAT=ACCEPTED:w
	ebmaster@dcmetrominis.org
ATTENDEE;CN="TheEnglishBeat";CUTYPE=INDIVIDUAL;PARTSTAT=ACCE
	PTED:webmaster@dcmetrominis.org
ATTENDEE;CN="STXMINI";CUTYPE=INDIVIDUAL;PARTSTAT=ACCEPTED:we
	bmaster@dcmetrominis.org
ATTENDEE;CN="MELO-R56";CUTYPE=INDIVIDUAL;PARTSTAT=ACCEPTED:w
	ebmaster@dcmetrominis.org
ATTENDEE;CN="At Bat";CUTYPE=INDIVIDUAL;PARTSTAT=ACCEPTED:web
	master@dcmetrominis.org
ATTENDEE;CN="IndiCooper";CUTYPE=INDIVIDUAL;PARTSTAT=ACCEPTED
	:webmaster@dcmetrominis.org
END:VEVENT
END:VCALENDAR
