BEGIN:VCALENDAR
VERSION:2.0
PRODID:-//InvisionCommunity Events 4.7.24//EN
METHOD:PUBLISH
CALSCALE:GREGORIAN
REFRESH-INTERVAL:PT15M
X-PUBLISHED-TTL:PT15M
X-WR-CALNAME:DCMM Club Calendar
NAME:DCMM Club Calendar
BEGIN:VTIMEZONE
TZID:Europe/London
TZURL:http://tzurl.org/zoneinfo/Europe/London
X-LIC-LOCATION:Europe/London
BEGIN:DAYLIGHT
TZOFFSETFROM:+0000
TZOFFSETTO:+0100
TZNAME:BST
DTSTART:20230326T020000Z
RRULE:FREQ=YEARLY;BYMONTH=3;BYDAY=-1SU
END:DAYLIGHT
BEGIN:STANDARD
TZOFFSETFROM:+0100
TZOFFSETTO:+0000
TZNAME:GMT
DTSTART:20231029T020000Z
RRULE:FREQ=YEARLY;BYMONTH=10;BYDAY=-1SU
END:STANDARD
END:VTIMEZONE
BEGIN:VEVENT
SUMMARY:Impromptu New Year's Day Run
DTSTAMP:20221229T171625Z
SEQUENCE:0
UID:806-1-481082abbf5b614c3f843e6f2c1af318@dcmetrominis.org
ORGANIZER;CN="STXMINI":webmaster@dcmetrominis.org
DESCRIPTION:\n	🚘  IMPROMPTU NEW YEAR’s DAY RUN\n\n\n\n	 \n\n\n\n	
	START: 962 Edward’s Ferry Rd (Leesburg House) \n\n\n\n	END: Vanish Brew
	ery 42264 Black Hops Ln Lucketts VA\n\n\n\n	WHEN: Sunday 1-1-23  / Noon\n
	\n\n\n	About 1.20 hr run\n\n\n\n	~The STX's are throwing this together and
	 will lead. \n\n\n\n	~It's an open run\n\n\n\n	-I’ll post the route on F
	riday\n\n
DTSTART:20230101T170000Z
ATTENDEE;CN="STXMINI";CUTYPE=INDIVIDUAL;PARTSTAT=ACCEPTED:we
	bmaster@dcmetrominis.org
ATTENDEE;CN="twakefield";CUTYPE=INDIVIDUAL;PARTSTAT=ACCEPTED
	:webmaster@dcmetrominis.org
ATTENDEE;CN="TheEnglishBeat";CUTYPE=INDIVIDUAL;PARTSTAT=ACCE
	PTED:webmaster@dcmetrominis.org
ATTENDEE;CN="DisposablePal";CUTYPE=INDIVIDUAL;PARTSTAT=ACCEP
	TED:webmaster@dcmetrominis.org
ATTENDEE;CN="Perry";CUTYPE=INDIVIDUAL;PARTSTAT=ACCEPTED:webm
	aster@dcmetrominis.org
ATTENDEE;CN="Dacoop";CUTYPE=INDIVIDUAL;PARTSTAT=ACCEPTED:web
	master@dcmetrominis.org
ATTENDEE;CN="NUTTY";CUTYPE=INDIVIDUAL;PARTSTAT=ACCEPTED:webm
	aster@dcmetrominis.org
ATTENDEE;CN="Widdie";CUTYPE=INDIVIDUAL;PARTSTAT=ACCEPTED:web
	master@dcmetrominis.org
END:VEVENT
END:VCALENDAR
