BEGIN:VCALENDAR
VERSION:2.0
PRODID:-//InvisionCommunity Events 4.7.24//EN
METHOD:PUBLISH
CALSCALE:GREGORIAN
REFRESH-INTERVAL:PT15M
X-PUBLISHED-TTL:PT15M
X-WR-CALNAME:DCMM Club Calendar
NAME:DCMM Club Calendar
BEGIN:VTIMEZONE
TZID:Europe/London
TZURL:http://tzurl.org/zoneinfo/Europe/London
X-LIC-LOCATION:Europe/London
BEGIN:DAYLIGHT
TZOFFSETFROM:+0000
TZOFFSETTO:+0100
TZNAME:BST
DTSTART:20210328T020000Z
RRULE:FREQ=YEARLY;BYMONTH=3;BYDAY=-1SU
END:DAYLIGHT
BEGIN:STANDARD
TZOFFSETFROM:+0100
TZOFFSETTO:+0000
TZNAME:GMT
DTSTART:20211031T020000Z
RRULE:FREQ=YEARLY;BYMONTH=10;BYDAY=-1SU
END:STANDARD
END:VTIMEZONE
BEGIN:VEVENT
SUMMARY:Drive to Car Corral at Summit Point
DTSTAMP:20210618T143811Z
SEQUENCE:0
UID:737-1-481082abbf5b614c3f843e6f2c1af318@dcmetrominis.org
ORGANIZER;CN="1975_mini":webmaster@dcmetrominis.org
DESCRIPTION:\n	We will be caravanning to the Car Carrol at Summit Point.
	 We will be starting in Leesburg\, VA and enjoy a few twisties as we wonde
	r up the Point of Rocks\, MD to pickup our Maryland friends. From there we
	 will enjoy a few more twisties as we work our way to Summit Point by 9am.
	 This is not a required event you can go directly to the track and meet us
	 there if you like. Please be sure to signup for the track event as well.\
	n\n\n\n	Start point Virginia: Starbucks\, 1011 Edwards Ferry Rd NE\, Lees
	burg\, VA 20176\n\n\n\n	Maryland pickup point: Point of Rocks MARC station
	\, 4000 Clay St\, Point of Rocks\, MD 21777\n\n\n\n	Ending point: Summit 
	Point Motorsports Park\, 201 Motorsports Park Cir\, Summit Point\, WV 254
	46\n\n\n\n	 \n\n\n\n	Schedule of events:\n\n\n\n	0715: Drivers Meeting\n\
	n\n\n	0730: Depart Starbucks\n\n\n\n	0810: Arrive at Point of Rocks\n\n\n\
	n	0815: Depart Point of Rocks\n\n\n\n	0900: Arrive at Summit Point Motorsp
	orts Park\n\n\n\n	 \n\n\n\n	Please be sure to signup for the track event 
	as well.\n\n\n\n\n	 \n\n
DTSTART:20210725T111500Z
DTEND:20210725T130000Z
ATTENDEE;CN="NUTTY";CUTYPE=INDIVIDUAL;PARTSTAT=ACCEPTED:webm
	aster@dcmetrominis.org
ATTENDEE;CN="1975_mini";CUTYPE=INDIVIDUAL;PARTSTAT=ACCEPTED:
	webmaster@dcmetrominis.org
ATTENDEE;CN="MELO-R56";CUTYPE=INDIVIDUAL;PARTSTAT=ACCEPTED:w
	ebmaster@dcmetrominis.org
ATTENDEE;CN="SneakyBaron";CUTYPE=INDIVIDUAL;PARTSTAT=ACCEPTE
	D:webmaster@dcmetrominis.org
ATTENDEE;CN="twakefield";CUTYPE=INDIVIDUAL;PARTSTAT=ACCEPTED
	:webmaster@dcmetrominis.org
ATTENDEE;CN="Hilltopper";CUTYPE=INDIVIDUAL;PARTSTAT=ACCEPTED
	:webmaster@dcmetrominis.org
ATTENDEE;CN="Jen M";CUTYPE=INDIVIDUAL;PARTSTAT=ACCEPTED:webm
	aster@dcmetrominis.org
ATTENDEE;CN="Shanks";CUTYPE=INDIVIDUAL;PARTSTAT=ACCEPTED:web
	master@dcmetrominis.org
ATTENDEE;CN="Obsessive";CUTYPE=INDIVIDUAL;PARTSTAT=ACCEPTED:
	webmaster@dcmetrominis.org
ATTENDEE;CN="Revwillie";CUTYPE=INDIVIDUAL;PARTSTAT=ACCEPTED:
	webmaster@dcmetrominis.org
ATTENDEE;CN="TheWeave";CUTYPE=INDIVIDUAL;PARTSTAT=ACCEPTED:w
	ebmaster@dcmetrominis.org
ATTENDEE;CN="BendersMINI";CUTYPE=INDIVIDUAL;PARTSTAT=ACCEPTE
	D:webmaster@dcmetrominis.org
ATTENDEE;CN="Charlotte S.";CUTYPE=INDIVIDUAL;PARTSTAT=ACCEPT
	ED:webmaster@dcmetrominis.org
ATTENDEE;CN="STXMINI";CUTYPE=INDIVIDUAL;PARTSTAT=ACCEPTED:we
	bmaster@dcmetrominis.org
ATTENDEE;CN="AdamX524";CUTYPE=INDIVIDUAL;PARTSTAT=ACCEPTED:w
	ebmaster@dcmetrominis.org
ATTENDEE;CN="GreenCactus";CUTYPE=INDIVIDUAL;PARTSTAT=ACCEPTE
	D:webmaster@dcmetrominis.org
ATTENDEE;CN="Spartacus";CUTYPE=INDIVIDUAL;PARTSTAT=ACCEPTED:
	webmaster@dcmetrominis.org
ATTENDEE;CN="David Close";CUTYPE=INDIVIDUAL;PARTSTAT=ACCEPTE
	D:webmaster@dcmetrominis.org
ATTENDEE;CN="MCFox";CUTYPE=INDIVIDUAL;PARTSTAT=ACCEPTED:webm
	aster@dcmetrominis.org
ATTENDEE;CN="Widdie";CUTYPE=INDIVIDUAL;PARTSTAT=ACCEPTED:web
	master@dcmetrominis.org
ATTENDEE;CN="TheMichael";CUTYPE=INDIVIDUAL;PARTSTAT=ACCEPTED
	:webmaster@dcmetrominis.org
END:VEVENT
END:VCALENDAR
