BEGIN:VCALENDAR
VERSION:2.0
PRODID:-//InvisionCommunity Events 4.7.24//EN
METHOD:PUBLISH
CALSCALE:GREGORIAN
REFRESH-INTERVAL:PT15M
X-PUBLISHED-TTL:PT15M
X-WR-CALNAME:DCMM Club Calendar
NAME:DCMM Club Calendar
BEGIN:VTIMEZONE
TZID:Europe/London
TZURL:http://tzurl.org/zoneinfo/Europe/London
X-LIC-LOCATION:Europe/London
BEGIN:DAYLIGHT
TZOFFSETFROM:+0000
TZOFFSETTO:+0100
TZNAME:BST
DTSTART:20210328T020000Z
RRULE:FREQ=YEARLY;BYMONTH=3;BYDAY=-1SU
END:DAYLIGHT
BEGIN:STANDARD
TZOFFSETFROM:+0100
TZOFFSETTO:+0000
TZNAME:GMT
DTSTART:20211031T020000Z
RRULE:FREQ=YEARLY;BYMONTH=10;BYDAY=-1SU
END:STANDARD
END:VTIMEZONE
BEGIN:VEVENT
SUMMARY:MINI Car Corral hosted by WDCR SCCA at Summit Point Motorspo
	rt Park
DTSTAMP:20210618T123613Z
SEQUENCE:0
UID:736-1-481082abbf5b614c3f843e6f2c1af318@dcmetrominis.org
ORGANIZER;CN="1975_mini":webmaster@dcmetrominis.org
DESCRIPTION:\n	We are excited to announce a special event in for next mo
	nth. The Washington DC region (WDCR) SCCA has offered to host a car corral
	 for us at the next Mid-Atlantic Road Racing Series (MARRS) event at Summi
	t Point\, WV on 25 July.\n\n\n\n	When: 25 July 2021\, arrive at the track
	 at 9am\n\n\n\n	Where: Summit Point Motorsport Park\, 201 Motorsports Park
	 Cir\, Summit Point\, WV 25446\n\n\n\n	What is a Car Carrol consist of?\n\
	n\n\n	-          Free Admission to the Days racing.\n\n\
	n\n	-          Reserved Corral Area with parking and seating\
	n\n\n\n	-          Water\, Snacks\, &amp\; Food\n\n\n\n	
	-          Pace car led ride around laps IN YOUR MINI ON TRACK!!
	 (First 25 registered have priority with additional spots \"as space/time
	 permits\")\n\n\n\n	-          Group photo opportunities on front
	 straight\n\n\n\n	-          Access to the paddock\, and opportun
	ity see some of the cars and talk to the drivers about them (Yes\, there a
	re some MINIs)\n\n\n\n	Come out and experience some wheel-to-wheel racing\
	, talk to the people that race in a series well with in your reach.\n\n\n\
	n	Do not miss this event!! Whether you just enjoy hanging out with the MIN
	I community\, watching racing\, or you compete in time events and interest
	ed in taking that next step there is something for everyone.\n\n\n\n	We al
	so will have a drive to the event where we will enjoy a few twisties with 
	both VA and Maryland pickup points (which ever works best for you). Please
	 sign up for the drive below.\n\n\n\n	UPDATED information on the event bel
	ow:\n\n\n\n	Arriving:\n\n\n\n	1)      For those joining the run\, I w
	ill coordinate everything at the gate just follow the MINI in front of you
	.\n\n\n\n	2)      If you are arriving separately\, tell the gate work
	er you are with the SCCA MINI Car Corral. \n\n\n\n	a)      Any issue
	s\, have them contact Bob Crawford (race chair)\, Chris Doherty\, or Scott
	 Merker.\n\n\n\n	3)      You will be asked to sign the general waiver
	 at the gate\, and given a wrist band (don't lose it!)\n\n\n\n	4)    
	  The car corral will be located directly across from the main entrance t
	o the track.  There will be large banners and a popup setup denoting the 
	area.  \n\n\n\n	(a)    Chris will be wearing a BRIGHT GREEN polo shi
	rt.  He will be hard to miss.\n\n\n\n	5)      Waivers - Chris will e
	nsure everyone has signed the SCCA waiver in the morning\, and we may prov
	ide an additional wrist band for the track touring laps.\n\n\n\n	6)  
	    I've attached a map of the track to indicate the main gate and the 
	Car Corral location.\n\n\n\n	During the event:\n\n\n\n	1.      Specta
	ting: You are free to visit any spectator areas or grandstands within the 
	track confines.  The outer parts of the track is a great place to watch t
	he racing\, and the Car Corral will be in a prime location.\n\n\n\n	a.
	      I strongly encourage everyone to bring folding chairs\, umbrell
	as\, etc.  If bringing canopies\, make sure you have a way to secure them
	 down if it is windy.  Use best judgement here.\n\n\n\n	b.      We a
	re still confirming if the group will have Paddock access while racing is 
	going on.  This is TBD.\n\n\n\n	2.      Technical: We've asked one o
	f our racers (Scott Luttrell) to bring his STU race car MINI by the Corral
	 during the day.  Assuming it's running\, he'll be stopping by!\n\n\n\n	3
	.      A live audio broadcast from the announcing booth will be on FM
	 88.7\n\n\n\n	Lunch Track Touring laps:\n\n\n\n	1.      Lunch laps: L
	unch time laps are limited to 25 and first come first served.  Chris will
	 shuttle everyone to paddock and grid.\n\n\n\n	2.      We expect this
	 will happen between 11:45 and 12:30\, depending on track cleanup and race
	 group schedules.  This could be earlier or later.  \n\n\n\n	3.   
	   Lunch laps will follow the Track Tour rules here.\n\n\n\n	 \n\n\n\n
		Food &amp\; Snacks (COVID):\n\n\n\n	1.      There will be coffee and
	 doughnuts waiting when you  arrive.  \n\n\n\n	2.      We will als
	o be providing light individual portion snacks and coolers with chilled be
	verages.\n\n\n\n	3.      Due to the continuing uncertainty of COVID a
	nd logistics\,  we won't be able to provide a grill for lunch:\n\n\n\n	a
	.      The 'Che Summit' concession stand will be open in the race pad
	dock.  Burgers/dogs/nachos\, etc. will be available for purchase.\n\n\n\n
		b.      Your participants can bring their own meals\, grills\, snack
	s\, etc.  There are no outside food restrictions at the track!\n\n\n\n	c
	.       Your participants can bring beer\, wine\, alcohol\, etc.  J
	ust no intoxicated driving during lunch touring laps\, which should be fai
	rly obvious \n\n\n\n\n	 \n\n
DTSTART:20210725T130000Z
DTEND:20210725T190000Z
ATTENDEE;CN="NUTTY";CUTYPE=INDIVIDUAL;PARTSTAT=ACCEPTED:webm
	aster@dcmetrominis.org
ATTENDEE;CN="1975_mini";CUTYPE=INDIVIDUAL;PARTSTAT=ACCEPTED:
	webmaster@dcmetrominis.org
ATTENDEE;CN="CHILLIN";CUTYPE=INDIVIDUAL;PARTSTAT=ACCEPTED:we
	bmaster@dcmetrominis.org
ATTENDEE;CN="MarkDDrew";CUTYPE=INDIVIDUAL;PARTSTAT=ACCEPTED:
	webmaster@dcmetrominis.org
ATTENDEE;CN="SneakyBaron";CUTYPE=INDIVIDUAL;PARTSTAT=ACCEPTE
	D:webmaster@dcmetrominis.org
ATTENDEE;CN="MELO-R56";CUTYPE=INDIVIDUAL;PARTSTAT=ACCEPTED:w
	ebmaster@dcmetrominis.org
ATTENDEE;CN="twakefield";CUTYPE=INDIVIDUAL;PARTSTAT=ACCEPTED
	:webmaster@dcmetrominis.org
ATTENDEE;CN="Jen M";CUTYPE=INDIVIDUAL;PARTSTAT=ACCEPTED:webm
	aster@dcmetrominis.org
ATTENDEE;CN="Shanks";CUTYPE=INDIVIDUAL;PARTSTAT=ACCEPTED:web
	master@dcmetrominis.org
ATTENDEE;CN="Obsessive";CUTYPE=INDIVIDUAL;PARTSTAT=ACCEPTED:
	webmaster@dcmetrominis.org
ATTENDEE;CN="Revwillie";CUTYPE=INDIVIDUAL;PARTSTAT=ACCEPTED:
	webmaster@dcmetrominis.org
ATTENDEE;CN="TheWeave";CUTYPE=INDIVIDUAL;PARTSTAT=ACCEPTED:w
	ebmaster@dcmetrominis.org
ATTENDEE;CN="BendersMINI";CUTYPE=INDIVIDUAL;PARTSTAT=ACCEPTE
	D:webmaster@dcmetrominis.org
ATTENDEE;CN="Charlotte S.";CUTYPE=INDIVIDUAL;PARTSTAT=ACCEPT
	ED:webmaster@dcmetrominis.org
ATTENDEE;CN="STXMINI";CUTYPE=INDIVIDUAL;PARTSTAT=ACCEPTED:we
	bmaster@dcmetrominis.org
ATTENDEE;CN="GreenCactus";CUTYPE=INDIVIDUAL;PARTSTAT=ACCEPTE
	D:webmaster@dcmetrominis.org
ATTENDEE;CN="David Close";CUTYPE=INDIVIDUAL;PARTSTAT=ACCEPTE
	D:webmaster@dcmetrominis.org
ATTENDEE;CN="Erin W";CUTYPE=INDIVIDUAL;PARTSTAT=ACCEPTED:web
	master@dcmetrominis.org
ATTENDEE;CN="AdamX524";CUTYPE=INDIVIDUAL;PARTSTAT=ACCEPTED:w
	ebmaster@dcmetrominis.org
ATTENDEE;CN="MCFox";CUTYPE=INDIVIDUAL;PARTSTAT=ACCEPTED:webm
	aster@dcmetrominis.org
ATTENDEE;CN="Widdie";CUTYPE=INDIVIDUAL;PARTSTAT=ACCEPTED:web
	master@dcmetrominis.org
ATTENDEE;CN="TheMichael";CUTYPE=INDIVIDUAL;PARTSTAT=ACCEPTED
	:webmaster@dcmetrominis.org
END:VEVENT
END:VCALENDAR
