BEGIN:VCALENDAR
VERSION:2.0
PRODID:-//InvisionCommunity Events 4.7.24//EN
METHOD:PUBLISH
CALSCALE:GREGORIAN
REFRESH-INTERVAL:PT15M
X-PUBLISHED-TTL:PT15M
X-WR-CALNAME:DCMM Club Calendar
NAME:DCMM Club Calendar
BEGIN:VTIMEZONE
TZID:Europe/London
TZURL:http://tzurl.org/zoneinfo/Europe/London
X-LIC-LOCATION:Europe/London
BEGIN:DAYLIGHT
TZOFFSETFROM:+0000
TZOFFSETTO:+0100
TZNAME:BST
DTSTART:20210328T020000Z
RRULE:FREQ=YEARLY;BYMONTH=3;BYDAY=-1SU
END:DAYLIGHT
BEGIN:STANDARD
TZOFFSETFROM:+0100
TZOFFSETTO:+0000
TZNAME:GMT
DTSTART:20211031T020000Z
RRULE:FREQ=YEARLY;BYMONTH=10;BYDAY=-1SU
END:STANDARD
END:VTIMEZONE
BEGIN:VEVENT
SUMMARY:MINI Together
DTSTAMP:20210614T170532Z
SEQUENCE:0
UID:735-1-481082abbf5b614c3f843e6f2c1af318@dcmetrominis.org
ORGANIZER;CN="CHILLIN":webmaster@dcmetrominis.org
DESCRIPTION:\n	MINI TOGETHER.\n	STAY LOCAL. STAY CONNECTED.\n	JULY 24\, 
	2021.\n\n\n\n	\n		Join MINI for a fun-filled day of adventure\, activities
	 and feel-good fundraising.\n		 \n		In the morning\, you and thousands of
	 enthusiastic MINI Owners from across the country will make a pit-stop at 
	your participating MINI Dealer before setting off on a socially distanced
	\, smile-inducing\, app-based scavenger hunt.\n		 \n		You won't be cross
	ing any state lines on this rally but we guarantee it will still be a roa
	d trip to remember. And you'll be able to socially share your adventure w
	ith the rest of the MINI community. \n		 \n		In the evening\, we'll brin
	g the MINI family back together for a virtual event filled with surprise 
	&amp\; delights.\n	\n\n	\n		https://minitogether.miniusaevents.com/#detail
	s\n	\n\n	\n		*** LOCAL EVENT DETAILS TO FOLLOW SOON ***\n	\n\n
DTSTART;VALUE=DATE:20210724
ATTENDEE;CN="1975_mini";CUTYPE=INDIVIDUAL;PARTSTAT=ACCEPTED:
	webmaster@dcmetrominis.org
ATTENDEE;CN="Donross";CUTYPE=INDIVIDUAL;PARTSTAT=ACCEPTED:we
	bmaster@dcmetrominis.org
ATTENDEE;CN="Jules";CUTYPE=INDIVIDUAL;PARTSTAT=ACCEPTED:webm
	aster@dcmetrominis.org
ATTENDEE;CN="NUTTY";CUTYPE=INDIVIDUAL;PARTSTAT=ACCEPTED:webm
	aster@dcmetrominis.org
ATTENDEE;CN="Tiger's_Mom";CUTYPE=INDIVIDUAL;PARTSTAT=ACCEPTE
	D:webmaster@dcmetrominis.org
ATTENDEE;CN="CHILLIN";CUTYPE=INDIVIDUAL;PARTSTAT=ACCEPTED:we
	bmaster@dcmetrominis.org
ATTENDEE;CN="STXMINI";CUTYPE=INDIVIDUAL;PARTSTAT=ACCEPTED:we
	bmaster@dcmetrominis.org
END:VEVENT
END:VCALENDAR
