BEGIN:VCALENDAR
VERSION:2.0
PRODID:-//InvisionCommunity Events 4.7.24//EN
METHOD:PUBLISH
CALSCALE:GREGORIAN
REFRESH-INTERVAL:PT15M
X-PUBLISHED-TTL:PT15M
X-WR-CALNAME:DCMM Club Calendar
NAME:DCMM Club Calendar
BEGIN:VTIMEZONE
TZID:Europe/London
TZURL:http://tzurl.org/zoneinfo/Europe/London
X-LIC-LOCATION:Europe/London
BEGIN:DAYLIGHT
TZOFFSETFROM:+0000
TZOFFSETTO:+0100
TZNAME:BST
DTSTART:20200329T020000Z
RRULE:FREQ=YEARLY;BYMONTH=3;BYDAY=-1SU
END:DAYLIGHT
BEGIN:STANDARD
TZOFFSETFROM:+0100
TZOFFSETTO:+0000
TZNAME:GMT
DTSTART:20201025T020000Z
RRULE:FREQ=YEARLY;BYMONTH=10;BYDAY=-1SU
END:STANDARD
END:VTIMEZONE
BEGIN:VEVENT
SUMMARY:(Canceled)2020 MINIs on the Dragon
DTSTAMP:20200124T175555Z
SEQUENCE:0
UID:693-1-481082abbf5b614c3f843e6f2c1af318@dcmetrominis.org
ORGANIZER;CN="1975_mini":webmaster@dcmetrominis.org
DESCRIPTION:\n\n	Before the event:\n\n	Registration: There is a $15.00 r
	egistration to attend the event. From there you can add the following prep
	aid items to your registration package: Welcome Dinner\, Dragon Bingo\, Br
	ewswap\, Farewell Dinner\, Grill Badges and several event shirts. All regi
	stration items will be picked up at the event.\n\n	(Click here for a step 
	by step Registration Guide)\n\n\n\n	Registration for the event and pre-pai
	d add ons will open up 9:00am on Friday January 17th 2020. You will be abl
	e to sign up for day drives at 9:00am Saturday February 15th 2020. You wil
	l only be able to sign up for day drives if you have paid your registratio
	n for the event and your order has been processed. Keep in mind\, it can t
	ake me up to 24 hours to procees your registration and you won't be able t
	o sign up for the day drives till I do that.\n\n\n\n	Day Drives and Events
	: Individual Volunteers\, Clubs and Vendors host different day drives and 
	events each year. Most of these are non pre-paid events. There are a few t
	hat your have to paypal the drive leaders in advance. Some of them are fre
	e\, many of them you just pay for your own meal or the designated activity
	. You can view these drives/events via the Schedule tab on the top of this
	 page. You can click on each drive/event to get more details. We try to ha
	ve a \"Map\" tab on each day drive on the schedule page\, so if a drive is
	 full and you would like to do the drive on your own you can print these o
	ut and take them to the event.\n\n\n\n	Most events will have a limit. Thes
	e are due to various reasons. Sometimes it might be due the size of the re
	staurant\, the final destination or just the need to limit the number of M
	INIs to keep the convoy manageable. These events will usually fill up prio
	r to the MOTD. Please make sure to delete yourself from any drives/events 
	you no longer want to attend to make room for others. Check back often as 
	events and drives are often added up until the last week. You can also bec
	ome a \"fan\" of MOTD on Facebook and I'll post up each time we get a new 
	event! Or add your name to get your MOTD News Letter emails HERE.\n\n\n\n	
	Lodging:\n\n	Fontana Village is the where the MOTD is based out of and the
	 preferred lodging location for most people. Most folks re-book their room
	s at Fontana when they leave the previous year\, so you may find that Font
	ana is sold out when you call. You can ask to put on a wait list. You can 
	also monitor the forums on Motoring Alliance for cancellations or folks lo
	oking to share lodging. You can check the Lodging page on this website for
	 other places to stay. Robbinsville\,NC is the closest town\, followed by 
	Byrson City\, NC and Maryville\, TN.\n\n\n\n	At the Event:\n\n	Make sure t
	o stop by the registration room to pick up your Name Badge and other goodi
	es. HERE is the schedule of times that volunteers will be manning the regi
	stration room. The registration room in located in the Rec. Hall at Fontan
	a Village. (MAP). Once inside the room\, there will be several lines that 
	are sorted by your last name\, there you will get your name badge (which i
	s also your ticket into any pre-paid events you purchased) and swag bag\, 
	from there you will pass by Bill Connelly and hopefully donate some food o
	r funds for the local food drive and then stop by the Shirt Table if you p
	re-paid for any event shirts.\n\n\n\n	Inside your swag bag will be a lanya
	rd in which to hang your name badge and schedule card.\n\n\n\n	There will 
	be two large maps of Fontana Village displayed at the Wildwood Grill and G
	eneral Store. This map will also be in the event guide that is available t
	o download in April. The maps will show where the different events start.\
	n\n\n\n	Vendor Alley: Will be located in front of the Wildwood Grill / Rec
	. Hall buildings at Fontana Village. You can check the list HERE towards t
	he end of the year to see what vendors will be at the 2020 MOTD.\n\n\n\n	A
	 friendly tip: Don't overbook yourself. Leave some down time to just relax
	 and take in the mountains and Fontana Village. And if your schedule allow
	s come a day or two early\, you'll be glad that you did.\n\n\n\n	Reminders
	:\n\n	This is a grassroots event\, I personally donate 8 months of each ye
	ar to hosting this event and then we have a dedicated army of volunteers t
	hat all sacrifice a small portion of their MOTD time to help out. So be pa
	tient and understanding when you are at the event.\n\n\n\n	The Dragon and 
	the surrounding roads can be dangerous. Please use caution\, watch your sp
	eed and stay on your side of the yellow line. Please visit our Driving the
	 Dragon page\, watch the safety video and sign up for one our Dragon Safet
	y Classes on Wednesday or Thursday.\n\n
DTSTART;VALUE=DATE:20200429
DTEND;VALUE=DATE:20200504
END:VEVENT
END:VCALENDAR
