BEGIN:VCALENDAR
VERSION:2.0
PRODID:-//InvisionCommunity Events 4.7.24//EN
METHOD:PUBLISH
CALSCALE:GREGORIAN
REFRESH-INTERVAL:PT15M
X-PUBLISHED-TTL:PT15M
X-WR-CALNAME:DCMM Club Calendar
NAME:DCMM Club Calendar
BEGIN:VTIMEZONE
TZID:Europe/London
TZURL:http://tzurl.org/zoneinfo/Europe/London
X-LIC-LOCATION:Europe/London
BEGIN:DAYLIGHT
TZOFFSETFROM:+0000
TZOFFSETTO:+0100
TZNAME:BST
DTSTART:20200329T020000Z
RRULE:FREQ=YEARLY;BYMONTH=3;BYDAY=-1SU
END:DAYLIGHT
BEGIN:STANDARD
TZOFFSETFROM:+0100
TZOFFSETTO:+0000
TZNAME:GMT
DTSTART:20201025T020000Z
RRULE:FREQ=YEARLY;BYMONTH=10;BYDAY=-1SU
END:STANDARD
END:VTIMEZONE
BEGIN:VEVENT
SUMMARY:(Canceled)23rd annual Britain on the Green (Gunston Hall)
DTSTAMP:20200124T174943Z
SEQUENCE:0
UID:692-1-481082abbf5b614c3f843e6f2c1af318@dcmetrominis.org
ORGANIZER;CN="1975_mini":webmaster@dcmetrominis.org
DESCRIPTION:\n\n	The Capital Triumph Register is proud to announce that 
	the 23rd annual Britain on the Green (BOG) will be held at historic Gunsto
	n Hall\, the colonial home of patriot George Mason\, in Lorton\, VA\, on A
	pril 26\, 2020.  BOG\, which welcomes all British cars and motorcycles. i
	s well-established as one of the premier all-British shows in the metropol
	itan DC area. \n\n\n\n	   Mark your calendars now and plan to attend as w
	e expect this year to be the best ever!  In addition to hundreds of beaut
	iful British vehicles on display\, we’ll have live music\, a Food Truck 
	Alley\, a sponsor/vendor Midway for your automotive needs\, activities for
	 children\, and tours of the Gunston Hall mansion and gardens for particip
	ants and spectators. \n\n\n\n	  \n\n\n\n	For 2020 we will feature a speci
	al display of classic British cars and their modern counterparts.  For ex
	ample\, a classic Jaguar E-Type from the 1960s will be paired with a curre
	nt Jaguar F-Type sports car.  Other marques in the display of pairing of
	 classic and modern examples will include Land Rover\, Mini\, Morgan\, an
	d Lotus.  \n\n\n\n	  \n\n\n\n	Participant’s Choice honors will be awa
	rded in 25 or more classes of British cars and motorcycles.  There will a
	lso be a number of special awards including Best Resto-Mod\, Best Survivor
	\, Best Display\, and of course\, Best of Show.  In addition\, we will ha
	ve Hagerty Youth Judging in which the next generation of British car drive
	rs picks their favorites. \n\n\n\n	 \n\n\n\n	 \n\n\n\n	Cars pre-register
	ed by April 15 will receive the collectable 23rd anniversary show poster b
	y famed artist Joseph Craig English.  All for $25\, a savings of $10 from
	 day-of registration. \n\n\n\n	  \n\n\n\n	Further information on Britain 
	on the Green can be found at:  \n\n\n\n	http://www.capitaltriumphregister
	.com/bog/ \n\n\n\n	 \n\n\n\n	BOG Show Car Registration Prices:\n\n	On-lin
	e early registration received by April 15\, 2020:  $25 per car\n\n	Regist
	ration after April 15\, 2020:  $35 per car \n\n\n\n	Mail in registration
	:  $35 per car \n\n\n\n	  \n\n\n\n	BOG Spectator Admission Prices:\n\n	A
	dults:  $10\n\n	Children 6-18:  $5\n\n	Children under 6:  free\n\n\n\n
		 \n\n
DTSTART:20200426T133000Z
DTEND:20200426T190000Z
END:VEVENT
END:VCALENDAR
