BEGIN:VCALENDAR
VERSION:2.0
PRODID:-//InvisionCommunity Events 4.7.24//EN
METHOD:PUBLISH
CALSCALE:GREGORIAN
REFRESH-INTERVAL:PT15M
X-PUBLISHED-TTL:PT15M
X-WR-CALNAME:DCMM Club Calendar
NAME:DCMM Club Calendar
BEGIN:VTIMEZONE
TZID:Europe/London
TZURL:http://tzurl.org/zoneinfo/Europe/London
X-LIC-LOCATION:Europe/London
BEGIN:DAYLIGHT
TZOFFSETFROM:+0000
TZOFFSETTO:+0100
TZNAME:BST
DTSTART:20170326T020000Z
RRULE:FREQ=YEARLY;BYMONTH=3;BYDAY=-1SU
END:DAYLIGHT
BEGIN:STANDARD
TZOFFSETFROM:+0100
TZOFFSETTO:+0000
TZNAME:GMT
DTSTART:20171029T020000Z
RRULE:FREQ=YEARLY;BYMONTH=10;BYDAY=-1SU
END:STANDARD
END:VTIMEZONE
BEGIN:VEVENT
SUMMARY:September Board meeting
DTSTAMP:20170905T173713Z
SEQUENCE:0
UID:588-1-481082abbf5b614c3f843e6f2c1af318@dcmetrominis.org
ORGANIZER;CN="TGGRRR (Ali)":webmaster@dcmetrominis.org
DESCRIPTION:\n \n&lt\;p&gt\;\n	The next board meeting will be Thurs Sep
	t 7th\n&lt\;/p&gt\;\n \n&lt\;p&gt\;\n	7:00\n&lt\;/p&gt\;\n \n&lt\;p&gt\;
	\n	Ted's Bulletin in Mosaic District\n&lt\;/p&gt\;\n \n&lt\;p&gt\;\n	 \n
	&lt\;/p&gt\;\n \n&lt\;p&gt\;\n	2911 District Ave\, Fairfax\, VA 22031\n&l
	t\;/p&gt\;\n \n&lt\;p&gt\;\n	 \n&lt\;/p&gt\;\n \n&lt\;p&gt\;\n	If we're
	 at 8 people or less we'll meet out front\, if the table in the bar is tak
	en or we have more than 8 we'll get a table\n&lt\;/p&gt\;\n \n&lt\;p&gt\;
	\n	 \n&lt\;/p&gt\;\n \n&lt\;p&gt\;\n	All members are welcome\, only boar
	d members can vote\n&lt\;/p&gt\;\n \n
DTSTART;VALUE=DATE:20170907
END:VEVENT
END:VCALENDAR
