BEGIN:VCALENDAR
VERSION:2.0
PRODID:-//InvisionCommunity Events 4.7.24//EN
METHOD:PUBLISH
CALSCALE:GREGORIAN
REFRESH-INTERVAL:PT15M
X-PUBLISHED-TTL:PT15M
X-WR-CALNAME:DCMM Club Calendar
NAME:DCMM Club Calendar
BEGIN:VTIMEZONE
TZID:Europe/London
TZURL:http://tzurl.org/zoneinfo/Europe/London
X-LIC-LOCATION:Europe/London
BEGIN:DAYLIGHT
TZOFFSETFROM:+0000
TZOFFSETTO:+0100
TZNAME:BST
DTSTART:20170326T020000Z
RRULE:FREQ=YEARLY;BYMONTH=3;BYDAY=-1SU
END:DAYLIGHT
BEGIN:STANDARD
TZOFFSETFROM:+0100
TZOFFSETTO:+0000
TZNAME:GMT
DTSTART:20171029T020000Z
RRULE:FREQ=YEARLY;BYMONTH=10;BYDAY=-1SU
END:STANDARD
END:VTIMEZONE
BEGIN:VEVENT
SUMMARY:Run to club picnic
DTSTAMP:20170713T205705Z
SEQUENCE:0
UID:582-1-481082abbf5b614c3f843e6f2c1af318@dcmetrominis.org
ORGANIZER;CN="TGGRRR (Ali)":webmaster@dcmetrominis.org
DESCRIPTION:\n \n&lt\;p&gt\;July 29&lt\;/p&gt\;\n&lt\;p&gt\;11:00&lt\;/
	p&gt\;\n&lt\;p&gt\;Meet at the Target in Sterling&lt\;/p&gt\;\n&lt\;p&gt\;
	 &lt\;/p&gt\;\n&lt\;p&gt\;Target\, 45130 Columbia Pl\, Sterling\, VA 2016
	6&lt\;/p&gt\;\n&lt\;p&gt\; &lt\;/p&gt\;\n&lt\;p&gt\;We'll caravan to the 
	picnic. This won't be a super spirited run simply because we're all headed
	 to a potluck. Since we all have food please secure it to handle some twis
	ties&lt\;/p&gt\;\n&lt\;p&gt\; &lt\;/p&gt\;\n&lt\;p&gt\;We should arrive a
	t the picnic by 12:00&lt\;/p&gt\;\n \n
DTSTART:20170729T000000Z
END:VEVENT
END:VCALENDAR
