BEGIN:VCALENDAR
VERSION:2.0
PRODID:-//InvisionCommunity Events 4.7.24//EN
METHOD:PUBLISH
CALSCALE:GREGORIAN
REFRESH-INTERVAL:PT15M
X-PUBLISHED-TTL:PT15M
X-WR-CALNAME:DCMM Club Calendar
NAME:DCMM Club Calendar
BEGIN:VTIMEZONE
TZID:Europe/London
TZURL:http://tzurl.org/zoneinfo/Europe/London
X-LIC-LOCATION:Europe/London
BEGIN:DAYLIGHT
TZOFFSETFROM:+0000
TZOFFSETTO:+0100
TZNAME:BST
DTSTART:20170326T020000Z
RRULE:FREQ=YEARLY;BYMONTH=3;BYDAY=-1SU
END:DAYLIGHT
BEGIN:STANDARD
TZOFFSETFROM:+0100
TZOFFSETTO:+0000
TZNAME:GMT
DTSTART:20171029T020000Z
RRULE:FREQ=YEARLY;BYMONTH=10;BYDAY=-1SU
END:STANDARD
END:VTIMEZONE
BEGIN:VEVENT
SUMMARY:Happy Hour Dice Burger with Corey!!!
DTSTAMP:20170217T011742Z
SEQUENCE:0
UID:563-1-481082abbf5b614c3f843e6f2c1af318@dcmetrominis.org
ORGANIZER;CN="TGGRRR (Ali)":webmaster@dcmetrominis.org
DESCRIPTION:\n \n&lt\;p&gt\;Meet us Friday night at Dice Burger &lt\;/p
	&gt\;\n&lt\;p&gt\;Feb 17th at 6:00&lt\;/p&gt\;\n&lt\;p&gt\; &lt\;/p&gt\;\
	n&lt\;p&gt\;7023 Columbia Pike\, Annandale\, VA 22003&lt\;/p&gt\;\n&lt\;p&
	gt\; &lt\;/p&gt\;\n&lt\;p&gt\;Corey is in town! So come hang out\, have a
	 burger (they're really good)&lt\;/p&gt\;\n \n
DTSTART:20170217T000000Z
END:VEVENT
END:VCALENDAR
