BEGIN:VCALENDAR
VERSION:2.0
PRODID:-//InvisionCommunity Events 4.7.24//EN
METHOD:PUBLISH
CALSCALE:GREGORIAN
REFRESH-INTERVAL:PT15M
X-PUBLISHED-TTL:PT15M
X-WR-CALNAME:DCMM Club Calendar
NAME:DCMM Club Calendar
BEGIN:VTIMEZONE
TZID:Europe/London
TZURL:http://tzurl.org/zoneinfo/Europe/London
X-LIC-LOCATION:Europe/London
BEGIN:DAYLIGHT
TZOFFSETFROM:+0000
TZOFFSETTO:+0100
TZNAME:BST
DTSTART:20170326T020000Z
RRULE:FREQ=YEARLY;BYMONTH=3;BYDAY=-1SU
END:DAYLIGHT
BEGIN:STANDARD
TZOFFSETFROM:+0100
TZOFFSETTO:+0000
TZNAME:GMT
DTSTART:20171029T020000Z
RRULE:FREQ=YEARLY;BYMONTH=10;BYDAY=-1SU
END:STANDARD
END:VTIMEZONE
BEGIN:VEVENT
SUMMARY:Happy Hour\, Dave & Buster's
DTSTAMP:20170130T232927Z
SEQUENCE:0
UID:560-1-481082abbf5b614c3f843e6f2c1af318@dcmetrominis.org
ORGANIZER;CN="chrimson":webmaster@dcmetrominis.org
DESCRIPTION:\n \n&lt\;p&gt\;Springfield Town Center&lt\;/p&gt\;\n&lt\;p
	&gt\; 6655 Springfield Mall&lt\;/p&gt\;\n&lt\;p&gt\; Springfield\, VA 2215
	0&lt\;/p&gt\;\n \n
DTSTART:20170209T233000Z
DTEND:20170210T013000Z
END:VEVENT
END:VCALENDAR
