BEGIN:VCALENDAR
VERSION:2.0
PRODID:-//InvisionCommunity Events 4.7.24//EN
METHOD:PUBLISH
CALSCALE:GREGORIAN
REFRESH-INTERVAL:PT15M
X-PUBLISHED-TTL:PT15M
X-WR-CALNAME:DCMM Club Calendar
NAME:DCMM Club Calendar
BEGIN:VTIMEZONE
TZID:Europe/London
TZURL:http://tzurl.org/zoneinfo/Europe/London
X-LIC-LOCATION:Europe/London
BEGIN:DAYLIGHT
TZOFFSETFROM:+0000
TZOFFSETTO:+0100
TZNAME:BST
DTSTART:20170326T020000Z
RRULE:FREQ=YEARLY;BYMONTH=3;BYDAY=-1SU
END:DAYLIGHT
BEGIN:STANDARD
TZOFFSETFROM:+0100
TZOFFSETTO:+0000
TZNAME:GMT
DTSTART:20171029T020000Z
RRULE:FREQ=YEARLY;BYMONTH=10;BYDAY=-1SU
END:STANDARD
END:VTIMEZONE
BEGIN:VEVENT
SUMMARY:MINIs in Foliage
DTSTAMP:20170106T145326Z
SEQUENCE:0
UID:555-1-481082abbf5b614c3f843e6f2c1af318@dcmetrominis.org
ORGANIZER;CN="melissa99":webmaster@dcmetrominis.org
DESCRIPTION:\n \n&lt\;p&gt\;\n	MINIs in Foliage\n&lt\;/p&gt\;\n \n&lt\
	;p&gt\;\n	September 27-October 1\n&lt\;/p&gt\;\n \n&lt\;p&gt\;\n	Lake Geo
	rge\, NY\n&lt\;/p&gt\;\n \n&lt\;p&gt\;\n	 \n&lt\;/p&gt\;\n \n&lt\;p&gt\
	;\n	Details and registration:\n&lt\;/p&gt\;\n \n&lt\;p&gt\;\n	 \n&lt\;/p
	&gt\;\n \n&lt\;p&gt\;\n	&lt\;a href=\"http://www.minisinfoliage.com/\" re
	l=\"external nofollow\"&gt\;http://www.minisinfoliage.com/&lt\;/a&gt\;\n&l
	t\;/p&gt\;\n \n
DTSTART;VALUE=DATE:20170927
DTEND;VALUE=DATE:20171002
END:VEVENT
END:VCALENDAR
