BEGIN:VCALENDAR
VERSION:2.0
PRODID:-//InvisionCommunity Events 4.7.24//EN
METHOD:PUBLISH
CALSCALE:GREGORIAN
REFRESH-INTERVAL:PT15M
X-PUBLISHED-TTL:PT15M
X-WR-CALNAME:DCMM Club Calendar
NAME:DCMM Club Calendar
BEGIN:VTIMEZONE
TZID:Europe/London
TZURL:http://tzurl.org/zoneinfo/Europe/London
X-LIC-LOCATION:Europe/London
BEGIN:DAYLIGHT
TZOFFSETFROM:+0000
TZOFFSETTO:+0100
TZNAME:BST
DTSTART:20170326T020000Z
RRULE:FREQ=YEARLY;BYMONTH=3;BYDAY=-1SU
END:DAYLIGHT
BEGIN:STANDARD
TZOFFSETFROM:+0100
TZOFFSETTO:+0000
TZNAME:GMT
DTSTART:20171029T020000Z
RRULE:FREQ=YEARLY;BYMONTH=10;BYDAY=-1SU
END:STANDARD
END:VTIMEZONE
BEGIN:VEVENT
SUMMARY:Mickey & MINI 13
DTSTAMP:20170106T143624Z
SEQUENCE:0
UID:553-1-481082abbf5b614c3f843e6f2c1af318@dcmetrominis.org
ORGANIZER;CN="melissa99":webmaster@dcmetrominis.org
DESCRIPTION:\n\n	Mickey &amp\; MINI 13\n\n\n\n	 \n\n\n\n	October 13-15\
	, 2017\n\n\n\n	Orlando\, FL\n\n\n\n	 \n\n\n\n	Details and registration: 
	http://www.mickeyandmini.org/\n\n
DTSTART;VALUE=DATE:20171013
DTEND;VALUE=DATE:20171016
END:VEVENT
END:VCALENDAR
