BEGIN:VCALENDAR
VERSION:2.0
PRODID:-//InvisionCommunity Events 4.7.24//EN
METHOD:PUBLISH
CALSCALE:GREGORIAN
REFRESH-INTERVAL:PT15M
X-PUBLISHED-TTL:PT15M
X-WR-CALNAME:DCMM Club Calendar
NAME:DCMM Club Calendar
BEGIN:VTIMEZONE
TZID:Europe/London
TZURL:http://tzurl.org/zoneinfo/Europe/London
X-LIC-LOCATION:Europe/London
BEGIN:DAYLIGHT
TZOFFSETFROM:+0000
TZOFFSETTO:+0100
TZNAME:BST
DTSTART:20170326T020000Z
RRULE:FREQ=YEARLY;BYMONTH=3;BYDAY=-1SU
END:DAYLIGHT
BEGIN:STANDARD
TZOFFSETFROM:+0100
TZOFFSETTO:+0000
TZNAME:GMT
DTSTART:20171029T020000Z
RRULE:FREQ=YEARLY;BYMONTH=10;BYDAY=-1SU
END:STANDARD
END:VTIMEZONE
BEGIN:VEVENT
SUMMARY:Meet & Greet at MINI of Annapolis - Jan 21
DTSTAMP:20170106T141823Z
SEQUENCE:0
UID:541-1-481082abbf5b614c3f843e6f2c1af318@dcmetrominis.org
ORGANIZER;CN="melissa99":webmaster@dcmetrominis.org
DESCRIPTION:\n \n&lt\;p&gt\;\n	This event is cancelled!\n&lt\;/p&gt\;\
	n \n&lt\;p&gt\;\n	 \n&lt\;/p&gt\;\n \n&lt\;p&gt\;\n	RSVPs are currently
	 off for this Meet and Greet.\n&lt\;/p&gt\;\n \n&lt\;p&gt\;\n	 \n&lt\;/p
	&gt\;\n \n&lt\;p&gt\;\n	C3M is having issues confirming with the dealersh
	ip and do not want a group showing up if they have not coordinated the eve
	nt.\n&lt\;/p&gt\;\n \n&lt\;p&gt\;\n	 \n&lt\;/p&gt\;\n \n&lt\;p&gt\;\n	W
	e will open RSVPs back up if it's confirmed.\n&lt\;/p&gt\;\n \n&lt\;p&gt\
	;\n	 \n&lt\;/p&gt\;\n \n&lt\;p&gt\;\n	It's \"Meet &amp\; Greet\" time! T
	his month\, it will be held at MINI of Annapolis\, Saturday January 21st\,
	 from 9:30am to noon.\n&lt\;/p&gt\;\n \n&lt\;p&gt\;\n	 \n&lt\;/p&gt\;\n
	 \n&lt\;p&gt\;\n	The address is: 31 Old Mill Bottom Road\, Annapolis MD 2
	1401\n&lt\;/p&gt\;\n \n&lt\;p&gt\;\n	 \n&lt\;/p&gt\;\n \n&lt\;p&gt\;\n	
	Please come join us for a casual get together with new and old members.\n&
	lt\;/p&gt\;\n \n&lt\;p&gt\;\n	 \n&lt\;/p&gt\;\n \n&lt\;p&gt\;\n	Non-mem
	bers and soon-to-be members are welcome as well.\n&lt\;/p&gt\;\n \n&lt\;p
	&gt\;\n	The RSVP option has been added so we can better plan for the event
	 but if you aren't able to RSVP\, please don't let that stop you from comi
	ng out to join us.\n&lt\;/p&gt\;\n \n
DTSTART;VALUE=DATE:20170121
END:VEVENT
END:VCALENDAR
