BEGIN:VCALENDAR
VERSION:2.0
PRODID:-//InvisionCommunity Events 4.7.24//EN
METHOD:PUBLISH
CALSCALE:GREGORIAN
REFRESH-INTERVAL:PT15M
X-PUBLISHED-TTL:PT15M
X-WR-CALNAME:DCMM Club Calendar
NAME:DCMM Club Calendar
BEGIN:VTIMEZONE
TZID:Europe/London
TZURL:http://tzurl.org/zoneinfo/Europe/London
X-LIC-LOCATION:Europe/London
BEGIN:DAYLIGHT
TZOFFSETFROM:+0000
TZOFFSETTO:+0100
TZNAME:BST
DTSTART:20160327T020000Z
RRULE:FREQ=YEARLY;BYMONTH=3;BYDAY=-1SU
END:DAYLIGHT
BEGIN:STANDARD
TZOFFSETFROM:+0100
TZOFFSETTO:+0000
TZNAME:GMT
DTSTART:20161030T020000Z
RRULE:FREQ=YEARLY;BYMONTH=10;BYDAY=-1SU
END:STANDARD
END:VTIMEZONE
BEGIN:VEVENT
SUMMARY:November Board Meeting
DTSTAMP:20161116T160619Z
SEQUENCE:0
UID:536-1-481082abbf5b614c3f843e6f2c1af318@dcmetrominis.org
ORGANIZER;CN="melissa99":webmaster@dcmetrominis.org
DESCRIPTION:\n \n&lt\;p&gt\;\n	The next board meeting will be held at C
	hris' house on November 20 at 3:00.\n&lt\;/p&gt\;\n \n&lt\;p&gt\;\n	 \n&
	lt\;/p&gt\;\n \n&lt\;p&gt\;\n	Any member can attend\, but you need to be 
	a board member to vote.\n&lt\;/p&gt\;\n \n&lt\;p&gt\;\n	 \n&lt\;/p&gt\;
	\n \n&lt\;p&gt\;\n	PM Chris (ChrisTKD) if you need the address. He's in M
	cLean\, VA\n&lt\;/p&gt\;\n \n
DTSTART;VALUE=DATE:20161119
END:VEVENT
END:VCALENDAR
