BEGIN:VCALENDAR
VERSION:2.0
PRODID:-//InvisionCommunity Events 4.7.24//EN
METHOD:PUBLISH
CALSCALE:GREGORIAN
REFRESH-INTERVAL:PT15M
X-PUBLISHED-TTL:PT15M
X-WR-CALNAME:DCMM Club Calendar
NAME:DCMM Club Calendar
BEGIN:VTIMEZONE
TZID:Europe/London
TZURL:http://tzurl.org/zoneinfo/Europe/London
X-LIC-LOCATION:Europe/London
BEGIN:DAYLIGHT
TZOFFSETFROM:+0000
TZOFFSETTO:+0100
TZNAME:BST
DTSTART:20150329T020000Z
RRULE:FREQ=YEARLY;BYMONTH=3;BYDAY=-1SU
END:DAYLIGHT
BEGIN:STANDARD
TZOFFSETFROM:+0100
TZOFFSETTO:+0000
TZNAME:GMT
DTSTART:20151025T020000Z
RRULE:FREQ=YEARLY;BYMONTH=10;BYDAY=-1SU
END:STANDARD
END:VTIMEZONE
BEGIN:VEVENT
SUMMARY:Sunday Morning brunch and twisties
DTSTAMP:20150304T012451Z
SEQUENCE:0
UID:396-1-481082abbf5b614c3f843e6f2c1af318@dcmetrominis.org
ORGANIZER;CN="TGGRRR (Ali)":webmaster@dcmetrominis.org
DESCRIPTION:\n \n&lt\;p&gt\;I'm planning a destination run through the 
	Clifton twisties to Manassas for brunch&lt\;/p&gt\;\n&lt\;p&gt\; &lt\;/p&
	gt\;\n&lt\;p&gt\;&lt\;strong&gt\;Sunday March 29th&lt\;/strong&gt\;&lt\;/p
	&gt\;\n&lt\;p&gt\;&lt\;strong&gt\;Meet at Patriot Park at 9:30&lt\;/strong
	&gt\;&lt\;/p&gt\;\n&lt\;p&gt\;12111 Braddock Road\, Fairfax\, VA 22030&lt\
	;/p&gt\;\n&lt\;p&gt\;&lt\;strong&gt\;Wheels up at 10:00 &lt\;/strong&gt\;&
	lt\;/p&gt\;\n&lt\;p&gt\;We'll then caravan through Clifton and the surroun
	ding area to explore our closest urban twisties.&lt\;/p&gt\;\n&lt\;p&gt\;
	 &lt\;/p&gt\;\n&lt\;p&gt\;&lt\;strong&gt\;We'll end up in Manassas for br
	unch by 11:00&lt\;/strong&gt\;&lt\;/p&gt\;\n&lt\;p&gt\;At Don Lencho Mexic
	an restaurant for brunch&lt\;/p&gt\;\n&lt\;p&gt\;9116 Mathis Ave\, Manassa
	s\, VA 20110&lt\;/p&gt\;\n&lt\;p&gt\; &lt\;/p&gt\;\n&lt\;p&gt\;They have 
	great parking and come well recommended&lt\;/p&gt\;\n&lt\;p&gt\; &lt\;/p&
	gt\;\n&lt\;p&gt\;It's a short 1 hour run to get us out and driving.&lt\;/p
	&gt\;\n \n
DTSTART:20150329T000000Z
END:VEVENT
END:VCALENDAR
