BEGIN:VCALENDAR
VERSION:2.0
PRODID:-//InvisionCommunity Events 4.7.24//EN
METHOD:PUBLISH
CALSCALE:GREGORIAN
REFRESH-INTERVAL:PT15M
X-PUBLISHED-TTL:PT15M
X-WR-CALNAME:DCMM Club Calendar
NAME:DCMM Club Calendar
BEGIN:VTIMEZONE
TZID:Europe/London
TZURL:http://tzurl.org/zoneinfo/Europe/London
X-LIC-LOCATION:Europe/London
BEGIN:DAYLIGHT
TZOFFSETFROM:+0000
TZOFFSETTO:+0100
TZNAME:BST
DTSTART:20150329T020000Z
RRULE:FREQ=YEARLY;BYMONTH=3;BYDAY=-1SU
END:DAYLIGHT
BEGIN:STANDARD
TZOFFSETFROM:+0100
TZOFFSETTO:+0000
TZNAME:GMT
DTSTART:20151025T020000Z
RRULE:FREQ=YEARLY;BYMONTH=10;BYDAY=-1SU
END:STANDARD
END:VTIMEZONE
BEGIN:VEVENT
SUMMARY:Fast and Furious 7 at Drive in
DTSTAMP:20150303T232453Z
SEQUENCE:0
UID:394-1-481082abbf5b614c3f843e6f2c1af318@dcmetrominis.org
ORGANIZER;CN="TGGRRR (Ali)":webmaster@dcmetrominis.org
DESCRIPTION:\n \n&lt\;p&gt\;&lt\;strong&gt\;PTUNING Presents&lt\;/stron
	g&gt\;:&lt\;/p&gt\;\n&lt\;p&gt\;A double Feature Drive in Experience&lt\;/
	p&gt\;\n&lt\;p&gt\;Furious 7 &amp\; TBD At &lt\;/p&gt\;\n&lt\;p&gt\;Family
	 Drive in Theatre 5890 Valley Pike\, (US Rt. 11 South) Stephens City\, Vir
	ginia 22655&lt\;/p&gt\;\n&lt\;p&gt\; &lt\;/p&gt\;\n&lt\;p&gt\;&lt\;strong
	&gt\;Date and Time:&lt\;/strong&gt\;&lt\;/p&gt\;\n&lt\;p&gt\;Saturday Apri
	l 4th\, 2015/Movie showtime at 7:30pm &lt\;/p&gt\;\n&lt\;p&gt\; &lt\;/p&g
	t\;\n&lt\;p&gt\;&lt\;strong&gt\;Please arrive at the drive in by 6:00pm&lt
	\;/strong&gt\;&lt\;/p&gt\;\n&lt\;p&gt\;Cost:$6 per Adult $3 per kid (Under
	 12) 10% off Food/Concessions.&lt\;/p&gt\;\n&lt\;p&gt\; &lt\;/p&gt\;\n&lt
	\;p&gt\;If you want to caravan we will join the PTuning gang at the shop a
	t 4:00&lt\;/p&gt\;\n&lt\;p&gt\; &lt\;/p&gt\;\n&lt\;p&gt\;I am pasting in 
	their whole message because you need to print it to get the group discount
	. &lt\;/p&gt\;\n&lt\;p&gt\; &lt\;/p&gt\;\n&lt\;p&gt\;The Date and Time: &
	lt\;/p&gt\;\n&lt\;p&gt\; &lt\;/p&gt\;\n&lt\;p&gt\;Saturday April 4th\, 20
	15/Movie showtime at 7:30pm Please arrive by 6:00pm &lt\;/p&gt\;\n&lt\;p&g
	t\; &lt\;/p&gt\;\n&lt\;p&gt\;Place: &lt\;/p&gt\;\n&lt\;p&gt\; &lt\;/p&gt
	\;\n&lt\;p&gt\;Family Drive in Theatre 5890 Valley Pike\, (US Rt. 11 South
	) Stephens City\, Virginia 22655 &lt\;/p&gt\;\n&lt\;p&gt\; &lt\;/p&gt\;\n
	&lt\;p&gt\;Movie: &lt\;/p&gt\;\n&lt\;p&gt\; &lt\;/p&gt\;\n&lt\;p&gt\;Furi
	ous 7 &amp\; TBD second feature &lt\;/p&gt\;\n&lt\;p&gt\; &lt\;/p&gt\;\n&
	lt\;p&gt\;Cost: &lt\;/p&gt\;\n&lt\;p&gt\; &lt\;/p&gt\;\n&lt\;p&gt\;Cost:$
	6 per Adult $3 per kid (Under 12) 10% off Food/Concessions. &lt\;/p&gt\;\n
	&lt\;p&gt\; &lt\;/p&gt\;\n&lt\;p&gt\;Parking: &lt\;/p&gt\;\n&lt\;p&gt\; 
	&lt\;/p&gt\;\n&lt\;p&gt\;Parking is first come first serve at the theatre 
	&lt\;/p&gt\;\n&lt\;p&gt\; &lt\;/p&gt\;\n&lt\;p&gt\;The Drive Down: &lt\;/
	p&gt\;\n&lt\;p&gt\; &lt\;/p&gt\;\n&lt\;p&gt\;PTUNING will be closing earl
	y on April 4th at 4:00pm our team will be driving down together to the eve
	nt. Everyone attending the event is welcome to join us and drive down with
	 us. If you like to please be at PTUNING &lt\;/p&gt\;\n&lt\;p&gt\; &lt\;/
	p&gt\;\n&lt\;p&gt\;9432 Center point Lane\, Manassas\, VA 20110 &lt\;/p&gt
	\;\n&lt\;p&gt\; &lt\;/p&gt\;\n&lt\;p&gt\;By 4:00PM to join us in the crui
	se down. &lt\;/p&gt\;\n&lt\;p&gt\; &lt\;/p&gt\;\n&lt\;p&gt\;Please Print:
	 &lt\;/p&gt\;\n&lt\;p&gt\; &lt\;/p&gt\;\n&lt\;p&gt\;Be sure to bring a pa
	per/digital copy of this promo so that our box office staff can provide th
	e discounted admissions and our concessions can honor the 10%&lt\;/p&gt\;\
	n \n
DTSTART:20150404T000000Z
END:VEVENT
END:VCALENDAR
