BEGIN:VCALENDAR
VERSION:2.0
PRODID:-//InvisionCommunity Events 4.7.24//EN
METHOD:PUBLISH
CALSCALE:GREGORIAN
REFRESH-INTERVAL:PT15M
X-PUBLISHED-TTL:PT15M
X-WR-CALNAME:DCMM Club Calendar
NAME:DCMM Club Calendar
BEGIN:VTIMEZONE
TZID:Europe/London
TZURL:http://tzurl.org/zoneinfo/Europe/London
X-LIC-LOCATION:Europe/London
BEGIN:DAYLIGHT
TZOFFSETFROM:+0000
TZOFFSETTO:+0100
TZNAME:BST
DTSTART:20150329T020000Z
RRULE:FREQ=YEARLY;BYMONTH=3;BYDAY=-1SU
END:DAYLIGHT
BEGIN:STANDARD
TZOFFSETFROM:+0100
TZOFFSETTO:+0000
TZNAME:GMT
DTSTART:20151025T020000Z
RRULE:FREQ=YEARLY;BYMONTH=10;BYDAY=-1SU
END:STANDARD
END:VTIMEZONE
BEGIN:VEVENT
SUMMARY:Happy Hour Shirlington
DTSTAMP:20150127T032508Z
SEQUENCE:0
UID:389-1-481082abbf5b614c3f843e6f2c1af318@dcmetrominis.org
ORGANIZER;CN="TGGRRR (Ali)":webmaster@dcmetrominis.org
DESCRIPTION:\n \n&lt\;p&gt\;Thurs Feb 5 at 6:00&lt\;/p&gt\;\n&lt\;p&gt\
	; &lt\;/p&gt\;\n&lt\;p&gt\;Samuel Beckett's Irish Gastro Pub&lt\;/p&gt\;\
	n&lt\;p&gt\;Address: The Village at Shirlington\, 2800 South Randolph Stre
	et\, Arlington\, VA 22206&lt\;/p&gt\;\n&lt\;p&gt\; &lt\;/p&gt\;\n&lt\;p&g
	t\;If you can't make it by 6:00 don't worry I'll be there for a while. If 
	the bar is crowded and we have a larger crowd I'll get a table and post th
	at here.&lt\;/p&gt\;\n&lt\;p&gt\; &lt\;/p&gt\;\n&lt\;p&gt\;Hoping there's
	 no snow!!!!&lt\;/p&gt\;\n \n
DTSTART:20150205T000000Z
END:VEVENT
END:VCALENDAR
