BEGIN:VCALENDAR
VERSION:2.0
PRODID:-//InvisionCommunity Events 4.7.24//EN
METHOD:PUBLISH
CALSCALE:GREGORIAN
REFRESH-INTERVAL:PT15M
X-PUBLISHED-TTL:PT15M
X-WR-CALNAME:DCMM Club Calendar
NAME:DCMM Club Calendar
BEGIN:VTIMEZONE
TZID:Europe/London
TZURL:http://tzurl.org/zoneinfo/Europe/London
X-LIC-LOCATION:Europe/London
BEGIN:DAYLIGHT
TZOFFSETFROM:+0000
TZOFFSETTO:+0100
TZNAME:BST
DTSTART:20140330T020000Z
RRULE:FREQ=YEARLY;BYMONTH=3;BYDAY=-1SU
END:DAYLIGHT
BEGIN:STANDARD
TZOFFSETFROM:+0100
TZOFFSETTO:+0000
TZNAME:GMT
DTSTART:20141026T020000Z
RRULE:FREQ=YEARLY;BYMONTH=10;BYDAY=-1SU
END:STANDARD
END:VTIMEZONE
BEGIN:VEVENT
SUMMARY:National Name Your Car Day
DTSTAMP:20140820T191421Z
SEQUENCE:0
UID:351-1-481082abbf5b614c3f843e6f2c1af318@dcmetrominis.org
ORGANIZER;CN="Bert":webmaster@dcmetrominis.org
DESCRIPTION:\n \n&lt\;p&gt\;Near and dear to Ali's heart.  &lt\;/p&gt\;
	\n&lt\;p&gt\; &lt\;/p&gt\;\n&lt\;p&gt\;Sponsored by Nationwide Insurance:
	 &lt\;/p&gt\;\n&lt\;p&gt\;&lt\;a href=\"http://www.thecarconnection.com/ne
	ws/1087364_its-national-name-your-car-day-what-do-you-call-your-ride\" rel
	=\"external nofollow\"&gt\;http://www.thecarconnection.com/news/1087364_it
	s-national-name-your-car-day-what-do-you-call-your-ride&lt\;/a&gt\;&lt\;/p
	&gt\;\n \n
DTSTART:20141002T000000Z
END:VEVENT
END:VCALENDAR
