BEGIN:VCALENDAR
VERSION:2.0
PRODID:-//InvisionCommunity Events 4.7.24//EN
METHOD:PUBLISH
CALSCALE:GREGORIAN
REFRESH-INTERVAL:PT15M
X-PUBLISHED-TTL:PT15M
X-WR-CALNAME:DCMM Club Calendar
NAME:DCMM Club Calendar
BEGIN:VTIMEZONE
TZID:Europe/London
TZURL:http://tzurl.org/zoneinfo/Europe/London
X-LIC-LOCATION:Europe/London
BEGIN:DAYLIGHT
TZOFFSETFROM:+0000
TZOFFSETTO:+0100
TZNAME:BST
DTSTART:20140330T020000Z
RRULE:FREQ=YEARLY;BYMONTH=3;BYDAY=-1SU
END:DAYLIGHT
BEGIN:STANDARD
TZOFFSETFROM:+0100
TZOFFSETTO:+0000
TZNAME:GMT
DTSTART:20141026T020000Z
RRULE:FREQ=YEARLY;BYMONTH=10;BYDAY=-1SU
END:STANDARD
END:VTIMEZONE
BEGIN:VEVENT
SUMMARY:Annual Picnic
DTSTAMP:20140321T194556Z
SEQUENCE:0
UID:337-1-481082abbf5b614c3f843e6f2c1af318@dcmetrominis.org
ORGANIZER;CN="TGGRRR (Ali)":webmaster@dcmetrominis.org
DESCRIPTION:\n \n&lt\;p&gt\;Save the date Aug 24&lt\;/p&gt\;\n&lt\;p&gt
	\;starting around noon&lt\;/p&gt\;\n&lt\;p&gt\;DCMM annual picnic will be 
	held at Bluemont Park in Arlington&lt\;/p&gt\;\n&lt\;p&gt\;Do not put Blue
	mont Park in your GPS\, it will take you to the wrong side and you can't g
	et to the shelter from there. Put the following in your GPS (Google)&lt\;/
	p&gt\;\n&lt\;p&gt\; &lt\;/p&gt\;\n&lt\;p&gt\;\"Bluemont park public bathr
	oom\, arlington VA\"&lt\;/p&gt\;\n&lt\;p&gt\;You have to enter the park fr
	om Route 50&lt\;/p&gt\;\n&lt\;p&gt\; &lt\;/p&gt\;\n&lt\;p&gt\;We have a n
	ice shelter\, a parking lot\, plenty of space for games and fun&lt\;/p&gt\
	;\n&lt\;p&gt\; &lt\;/p&gt\;\n&lt\;p&gt\;Free to members plus one guest\, 
	children under 10 are free&lt\;/p&gt\;\n&lt\;p&gt\;$5 per person for non-m
	embers&lt\;/p&gt\;\n&lt\;p&gt\; &lt\;/p&gt\;\n&lt\;p&gt\;The club will gr
	ill meats and offer fixings. We'll also have some basic sodas and waters a
	vailable.&lt\;/p&gt\;\n&lt\;p&gt\;we ask each person attending to bring a 
	side dish or dessert to share\, enough for 4 - 5 people will be fine you d
	on't have to bring enough for everyone. Please comment with what you're br
	inging in your RSVP&lt\;/p&gt\;\n&lt\;p&gt\; &lt\;/p&gt\;\n&lt\;p&gt\;We 
	will need some helpers for set up and clean up&lt\;/p&gt\;\n&lt\;p&gt\; &
	lt\;/p&gt\;\n&lt\;p&gt\;Feel free to bring games\, your kids and or dogs (
	on a leash)&lt\;/p&gt\;\n&lt\;p&gt\;You might also want to bring&lt\;/p&gt
	\;\n&lt\;p&gt\;chairs&lt\;/p&gt\;\n&lt\;p&gt\;bug spray&lt\;/p&gt\;\n&lt\;
	p&gt\;A frisbee (for frisbee golf)&lt\;/p&gt\;\n&lt\;p&gt\;And what ever f
	un thing you can think of&lt\;/p&gt\;\n&lt\;p&gt\; &lt\;/p&gt\;\n&lt\;p&g
	t\;Picnic is rain or shine. There is a shelter\, so don’t let the weathe
	r stop you! &lt\;/p&gt\;\n&lt\;p&gt\;Dogs are permitted in the park\, but 
	they must be kept on a leash. &lt\;/p&gt\;\n&lt\;p&gt\;Alcohol is not allo
	wed in the park&lt\;/p&gt\;\n&lt\;p&gt\;There are REAL bathrooms very clos
	e to the shelter.&lt\;/p&gt\;\n&lt\;p&gt\; &lt\;/p&gt\;\n&lt\;p&gt\;Below
	 is a picture of a map to the park with some notes to help you understand 
	where the shelter is&lt\;/p&gt\;\n&lt\;p&gt\; &lt\;/p&gt\;\n&lt\;p&gt\;&l
	t\;a href=\"http://www.alicyndrew.com/dcmetrominis/e3a023429\" rel=\"exter
	nal nofollow\"&gt\;http://www.alicyndrew.com/dcmetrominis/e3a023429&lt\;/a
	&gt\;&lt\;/p&gt\;\n \n
DTSTART:20140824T000000Z
END:VEVENT
END:VCALENDAR
