BEGIN:VCALENDAR
VERSION:2.0
PRODID:-//InvisionCommunity Events 4.7.24//EN
METHOD:PUBLISH
CALSCALE:GREGORIAN
REFRESH-INTERVAL:PT15M
X-PUBLISHED-TTL:PT15M
X-WR-CALNAME:DCMM Club Calendar
NAME:DCMM Club Calendar
BEGIN:VTIMEZONE
TZID:Europe/London
TZURL:http://tzurl.org/zoneinfo/Europe/London
X-LIC-LOCATION:Europe/London
BEGIN:DAYLIGHT
TZOFFSETFROM:+0000
TZOFFSETTO:+0100
TZNAME:BST
DTSTART:20140330T020000Z
RRULE:FREQ=YEARLY;BYMONTH=3;BYDAY=-1SU
END:DAYLIGHT
BEGIN:STANDARD
TZOFFSETFROM:+0100
TZOFFSETTO:+0000
TZNAME:GMT
DTSTART:20141026T020000Z
RRULE:FREQ=YEARLY;BYMONTH=10;BYDAY=-1SU
END:STANDARD
END:VTIMEZONE
BEGIN:VEVENT
SUMMARY:Ladies Car Care Clinic
DTSTAMP:20140124T040610Z
SEQUENCE:0
UID:325-1-481082abbf5b614c3f843e6f2c1af318@dcmetrominis.org
ORGANIZER;CN="TGGRRR (Ali)":webmaster@dcmetrominis.org
DESCRIPTION:\n \n&lt\;p&gt\;&lt\;span style=\"color:#FF0000\;\"&gt\;&lt
	\;strong&gt\;Cancelled due to lack of parking from snow conditions&lt\;/st
	rong&gt\;&lt\;/span&gt\;&lt\;/p&gt\;\n&lt\;p&gt\; &lt\;/p&gt\;\n&lt\;p&gt
	\; &lt\;/p&gt\;\n&lt\;p&gt\;At the Garage Mahal &lt\;/p&gt\;\n&lt\;p&gt\;
	5200 Lindsey st&lt\;/p&gt\;\n&lt\;p&gt\;Fairfax\, VA 22032-3420&lt\;/p&gt\
	;\n&lt\;p&gt\;2:00 - 4:00&lt\;/p&gt\;\n&lt\;p&gt\; &lt\;/p&gt\;\n&lt\;p&g
	t\;Ladies come join us to learn about the care and feeding of your MINI.&l
	t\;/p&gt\;\n&lt\;p&gt\; &lt\;/p&gt\;\n&lt\;p&gt\;We'll be covering the ba
	sics of tires\, checking the oil\, maintenance and more.&lt\;/p&gt\;\n&lt\
	;p&gt\; &lt\;/p&gt\;\n&lt\;p&gt\;With ladies only you can feel comfortabl
	e asking those questions that you were afraid to ask around the guys.&lt\;
	/p&gt\;\n \n
DTSTART:20140216T000000Z
END:VEVENT
END:VCALENDAR
