BEGIN:VCALENDAR
VERSION:2.0
PRODID:-//InvisionCommunity Events 4.7.24//EN
METHOD:PUBLISH
CALSCALE:GREGORIAN
REFRESH-INTERVAL:PT15M
X-PUBLISHED-TTL:PT15M
X-WR-CALNAME:DCMM Club Calendar
NAME:DCMM Club Calendar
BEGIN:VTIMEZONE
TZID:Europe/London
TZURL:http://tzurl.org/zoneinfo/Europe/London
X-LIC-LOCATION:Europe/London
BEGIN:DAYLIGHT
TZOFFSETFROM:+0000
TZOFFSETTO:+0100
TZNAME:BST
DTSTART:20140330T020000Z
RRULE:FREQ=YEARLY;BYMONTH=3;BYDAY=-1SU
END:DAYLIGHT
BEGIN:STANDARD
TZOFFSETFROM:+0100
TZOFFSETTO:+0000
TZNAME:GMT
DTSTART:20141026T020000Z
RRULE:FREQ=YEARLY;BYMONTH=10;BYDAY=-1SU
END:STANDARD
END:VTIMEZONE
BEGIN:VEVENT
SUMMARY:Dinner with Phil Wicks
DTSTAMP:20140122T160258Z
SEQUENCE:0
UID:324-1-481082abbf5b614c3f843e6f2c1af318@dcmetrominis.org
ORGANIZER;CN="TGGRRR (Ali)":webmaster@dcmetrominis.org
DESCRIPTION:\n \n&lt\;p&gt\;Please joins us at the Union Street Public 
	House in Alexandria for dinner with Phil Wicks&lt\;/p&gt\;\n&lt\;p&gt\;Tim
	e 5:00&lt\;/p&gt\;\n&lt\;p&gt\;121 S Union St\, Alexandria\, VA 22314  (Th
	is is in Old Town\, near the water)&lt\;/p&gt\;\n&lt\;p&gt\; &lt\;/p&gt\;
	\n&lt\;p&gt\;Parking will be either on street or in the lot across the str
	eet which is in the $5 - $7 range. &lt\;/p&gt\;\n&lt\;p&gt\; &lt\;/p&gt\;
	\n&lt\;p&gt\;Please note: they have a one check policy for groups and only
	 take 4 cards on a check\, they also have an ATM machine on premises.&lt\;
	/p&gt\;\n&lt\;p&gt\; &lt\;/p&gt\;\n&lt\;p&gt\;Who's Phil Wick????&lt\;/p&
	gt\;\n&lt\;p&gt\; &lt\;/p&gt\;\n&lt\;p&gt\;You can google him\, he was a 
	driver of one of the Mini's in the original Italian job and he runs a driv
	ing academy. He will be setting up more driving schools at Summit point no
	w that he has a partial sponsorship with Passport MINI.&lt\;/p&gt\;\n&lt\;
	p&gt\; &lt\;/p&gt\;\n&lt\;p&gt\;He asked to meet us and he's a super nice
	 guy.&lt\;/p&gt\;\n \n
DTSTART:20140215T000000Z
END:VEVENT
END:VCALENDAR
