BEGIN:VCALENDAR
VERSION:2.0
PRODID:-//InvisionCommunity Events 4.7.24//EN
METHOD:PUBLISH
CALSCALE:GREGORIAN
REFRESH-INTERVAL:PT15M
X-PUBLISHED-TTL:PT15M
X-WR-CALNAME:DCMM Club Calendar
NAME:DCMM Club Calendar
BEGIN:VTIMEZONE
TZID:Europe/London
TZURL:http://tzurl.org/zoneinfo/Europe/London
X-LIC-LOCATION:Europe/London
BEGIN:DAYLIGHT
TZOFFSETFROM:+0000
TZOFFSETTO:+0100
TZNAME:BST
DTSTART:20140330T020000Z
RRULE:FREQ=YEARLY;BYMONTH=3;BYDAY=-1SU
END:DAYLIGHT
BEGIN:STANDARD
TZOFFSETFROM:+0100
TZOFFSETTO:+0000
TZNAME:GMT
DTSTART:20141026T020000Z
RRULE:FREQ=YEARLY;BYMONTH=10;BYDAY=-1SU
END:STANDARD
END:VTIMEZONE
BEGIN:VEVENT
SUMMARY:DC Photo Shoot morning
DTSTAMP:20131227T135114Z
SEQUENCE:0
UID:319-1-481082abbf5b614c3f843e6f2c1af318@dcmetrominis.org
ORGANIZER;CN="TGGRRR (Ali)":webmaster@dcmetrominis.org
DESCRIPTION:\n \n&lt\;p&gt\;Start time 8:00AM&lt\;/p&gt\;\n&lt\;p&gt\;L
	ocation Tidal Basin Paddle boat parking lot&lt\;/p&gt\;\n&lt\;p&gt\; &lt\
	;/p&gt\;\n&lt\;p&gt\;In case of rain or a bad storm we will move to either
	 the next day or the next weekend.&lt\;/p&gt\;\n&lt\;p&gt\; &lt\;/p&gt\;\
	n&lt\;p&gt\;The plan is to meet at 8:00AM at the parking lot across from t
	he Jefferson Memorial &lt\;/p&gt\;\n&lt\;p&gt\;Tidal Basin Paddle Boats&lt
	\;/p&gt\;\n&lt\;p&gt\;1501 Maine Ave SW&lt\;/p&gt\;\n&lt\;p&gt\;Washington
	\, DC 20024&lt\;/p&gt\;\n&lt\;p&gt\; &lt\;/p&gt\;\n&lt\;p&gt\;Please be o
	n time as we want to work quickly for our two DC locations to get the shot
	s before the lots fill up.&lt\;/p&gt\;\n&lt\;p&gt\; &lt\;/p&gt\;\n&lt\;p&
	gt\;After the Tidal Basin we'll drive to 14th street where there is on str
	eet parking about a block from the Monument. If parking is available we'll
	 park the cars on 14th\, get out and shoot them with the Washington Monume
	nt in the background. &lt\;/p&gt\;\n&lt\;p&gt\; &lt\;/p&gt\;\n&lt\;p&gt\;
	From there we're moving on to the Capital to shoot from the parking areas 
	on the roads leading up to it. We can park on either Maryland Ave or Penns
	ylvania Ave. &lt\;/p&gt\;\n&lt\;p&gt\;At this location it could be fun to 
	stage some photographers inside the rotary in front of the Capital and sho
	ot a few MINIs as they drive by.&lt\;/p&gt\;\n&lt\;p&gt\; &lt\;/p&gt\;\n&
	lt\;p&gt\;From there we'll go to the Virginia side to Gravelly Point Park 
	which is off of the GW Parkway just north of the Airport. If the park isn'
	t too crowded we can get some shots of the MINIs with the Capital and Wash
	ington Monument in the background. We might even be able to set up the car
	s so that there is a big old Jet flying overhead. This park can get really
	 crowded so we'll need to play it by ear when we get there.&lt\;/p&gt\;\n&
	lt\;p&gt\; &lt\;/p&gt\;\n&lt\;p&gt\;&lt\;strong&gt\;Then out to lunch!!!&
	lt\;/strong&gt\;&lt\;/p&gt\;\n&lt\;p&gt\; &lt\;/p&gt\;\n&lt\;p&gt\;I made
	 reservations for 11:30 at Teaism in Old Town Alexandria\, we have free pa
	rking options in garages there. &lt\;/p&gt\;\n&lt\;p&gt\; &lt\;/p&gt\;\n&
	lt\;p&gt\;682 N St Asaph Street • Alexandria\, VA 22314&lt\;/p&gt\;\n&lt
	\;p&gt\;Here's a link to their menu\, it's a fun and funky atmosphere. The
	y are letting us order off of the menu. &lt\;/p&gt\;\n&lt\;p&gt\; &lt\;/p
	&gt\;\n&lt\;p&gt\;&lt\;a href=\"https://www.teaism.com/images/restaurant/v
	iew_menu/42_1384272942_oldtownmenuab1113.pdf\" rel=\"external nofollow\"&g
	t\;https://www.teaism.com/images/restaurant/view_menu/42_1384272942_oldtow
	nmenuab1113.pdf&lt\;/a&gt\;&lt\;/p&gt\;\n&lt\;p&gt\; &lt\;/p&gt\;\n&lt\;p
	&gt\;You do not need a camera to participate. I'll have my camera and I'm 
	sure other's will bring theirs. What we need are MINIs!!!! &lt\;/p&gt\;\n&
	lt\;p&gt\; &lt\;/p&gt\;\n&lt\;p&gt\;I plan to convert some of the DC imag
	es into banners for the forum header. I'll put all of the images out onlin
	e where people can access and download them.&lt\;/p&gt\;\n \n
DTSTART:20140208T000000Z
END:VEVENT
END:VCALENDAR
