BEGIN:VCALENDAR
VERSION:2.0
PRODID:-//InvisionCommunity Events 4.7.24//EN
METHOD:PUBLISH
CALSCALE:GREGORIAN
REFRESH-INTERVAL:PT15M
X-PUBLISHED-TTL:PT15M
X-WR-CALNAME:DCMM Club Calendar
NAME:DCMM Club Calendar
BEGIN:VTIMEZONE
TZID:Europe/London
TZURL:http://tzurl.org/zoneinfo/Europe/London
X-LIC-LOCATION:Europe/London
BEGIN:DAYLIGHT
TZOFFSETFROM:+0000
TZOFFSETTO:+0100
TZNAME:BST
DTSTART:20130331T020000Z
RRULE:FREQ=YEARLY;BYMONTH=3;BYDAY=-1SU
END:DAYLIGHT
BEGIN:STANDARD
TZOFFSETFROM:+0100
TZOFFSETTO:+0000
TZNAME:GMT
DTSTART:20131027T020000Z
RRULE:FREQ=YEARLY;BYMONTH=10;BYDAY=-1SU
END:STANDARD
END:VTIMEZONE
BEGIN:VEVENT
SUMMARY:Toys for Tots drive
DTSTAMP:20131126T151025Z
SEQUENCE:0
UID:303-1-481082abbf5b614c3f843e6f2c1af318@dcmetrominis.org
ORGANIZER;CN="TGGRRR (Ali)":webmaster@dcmetrominis.org
DESCRIPTION:\n \n&lt\;p&gt\;This is still in the planning stages but I 
	wanted to get it out there. &lt\;/p&gt\;\n&lt\;p&gt\; &lt\;/p&gt\;\n&lt\;
	p&gt\;We are planning a Toys for Tots drive on Sat Dec 14\, probably midda
	y. &lt\;/p&gt\;\n&lt\;p&gt\; &lt\;/p&gt\;\n&lt\;p&gt\;We are coordinating
	 with the local dealerships to have them become designated Toys for Tots d
	rop off locations and on the 14th we will arrive in small groups at one of
	 the four local dealers. We're not taking all of the MINIs to all of the d
	ealers. We will create groups of MINIs to go to each dealer.&lt\;/p&gt\;\n
	&lt\;p&gt\;Participating dealerships are &lt\;/p&gt\;\n&lt\;p&gt\;Annapoli
	s&lt\;/p&gt\;\n&lt\;p&gt\;Alexandria&lt\;/p&gt\;\n&lt\;p&gt\;Montgomery Co
	unty&lt\;/p&gt\;\n&lt\;p&gt\; &lt\;/p&gt\;\n&lt\;p&gt\;We'll pick up the 
	toys and then meet at a central location to all caravan to the drop off lo
	cation&lt\;/p&gt\;\n&lt\;p&gt\; &lt\;/p&gt\;\n&lt\;p&gt\;When you RSVP pl
	ease indicate the dealer that works best for you to meet at. Hopefully we'
	ll have an fairly even distribution of MINIs per dealer.&lt\;/p&gt\;\n \n
DTSTART:20131214T000000Z
END:VEVENT
END:VCALENDAR
