BEGIN:VCALENDAR
VERSION:2.0
PRODID:-//InvisionCommunity Events 4.7.24//EN
METHOD:PUBLISH
CALSCALE:GREGORIAN
REFRESH-INTERVAL:PT15M
X-PUBLISHED-TTL:PT15M
X-WR-CALNAME:DCMM Club Calendar
NAME:DCMM Club Calendar
BEGIN:VTIMEZONE
TZID:Europe/London
TZURL:http://tzurl.org/zoneinfo/Europe/London
X-LIC-LOCATION:Europe/London
BEGIN:DAYLIGHT
TZOFFSETFROM:+0000
TZOFFSETTO:+0100
TZNAME:BST
DTSTART:20130331T020000Z
RRULE:FREQ=YEARLY;BYMONTH=3;BYDAY=-1SU
END:DAYLIGHT
BEGIN:STANDARD
TZOFFSETFROM:+0100
TZOFFSETTO:+0000
TZNAME:GMT
DTSTART:20131027T020000Z
RRULE:FREQ=YEARLY;BYMONTH=10;BYDAY=-1SU
END:STANDARD
END:VTIMEZONE
BEGIN:VEVENT
SUMMARY:Board meeting
DTSTAMP:20131030T014513Z
SEQUENCE:0
UID:300-1-481082abbf5b614c3f843e6f2c1af318@dcmetrominis.org
ORGANIZER;CN="TGGRRR (Ali)":webmaster@dcmetrominis.org
DESCRIPTION:\n \n&lt\;p&gt\;Sat Dec 7 at 4:00 - 5:30&lt\;/p&gt\;\n&lt\;
	p&gt\;Location Craig's house aka The Garage Mahal (PM him for the address 
	cmcveay)&lt\;/p&gt\;\n&lt\;p&gt\; &lt\;/p&gt\;\n&lt\;p&gt\;In accordance 
	with our bylaws this meeting is open to full club members only (you have a
	 current badge and have paid dues)&lt\;/p&gt\;\n&lt\;p&gt\; &lt\;/p&gt\;\
	n&lt\;p&gt\;Members are welcome to participate however they are not eligib
	le to vote if there are any matters to vote on. If you want to present a t
	opic or idea please let  board member know so that it can be put on the ag
	enda.&lt\;/p&gt\;\n&lt\;p&gt\; &lt\;/p&gt\;\n&lt\;p&gt\;While members hav
	e always been welcome to attend a board meeting\, this is a new process to
	 post the meetings in the events. We are interested in hearing what member
	s have to say and would like to demystify the activities of your club offi
	cers.&lt\;/p&gt\;\n \n
DTSTART:20131207T000000Z
END:VEVENT
END:VCALENDAR
