BEGIN:VCALENDAR
VERSION:2.0
PRODID:-//InvisionCommunity Events 4.7.24//EN
METHOD:PUBLISH
CALSCALE:GREGORIAN
REFRESH-INTERVAL:PT15M
X-PUBLISHED-TTL:PT15M
X-WR-CALNAME:DCMM Club Calendar
NAME:DCMM Club Calendar
BEGIN:VTIMEZONE
TZID:Europe/London
TZURL:http://tzurl.org/zoneinfo/Europe/London
X-LIC-LOCATION:Europe/London
BEGIN:DAYLIGHT
TZOFFSETFROM:+0000
TZOFFSETTO:+0100
TZNAME:BST
DTSTART:20130331T020000Z
RRULE:FREQ=YEARLY;BYMONTH=3;BYDAY=-1SU
END:DAYLIGHT
BEGIN:STANDARD
TZOFFSETFROM:+0100
TZOFFSETTO:+0000
TZNAME:GMT
DTSTART:20131027T020000Z
RRULE:FREQ=YEARLY;BYMONTH=10;BYDAY=-1SU
END:STANDARD
END:VTIMEZONE
BEGIN:VEVENT
SUMMARY:PTuning Big Fall Meet
DTSTAMP:20131007T025018Z
SEQUENCE:0
UID:297-1-481082abbf5b614c3f843e6f2c1af318@dcmetrominis.org
ORGANIZER;CN="TGGRRR (Ali)":webmaster@dcmetrominis.org
DESCRIPTION:\n \n&lt\;p&gt\;Everyone is invited to PTUNING last BIG Fal
	l Meet on October 12th.&lt\;/p&gt\;\n&lt\;p&gt\; &lt\;/p&gt\;\n&lt\;p&gt\
	;For more details\, please see our FB event page:&lt\;/p&gt\;\n&lt\;p&gt\;
	 &lt\;/p&gt\;\n&lt\;p&gt\;&lt\;a href=\"https://www.facebook.com/events/1
	647...ilter=calendar\" rel=\"external nofollow\"&gt\;https://www.facebook.
	com/events/1647...ilter=calendar&lt\;/a&gt\;&lt\;/p&gt\;\n&lt\;p&gt\; &lt
	\;/p&gt\;\n&lt\;p&gt\;Hope to see some of you there!&lt\;/p&gt\;\n&lt\;p&g
	t\; &lt\;/p&gt\;\n&lt\;p&gt\; &lt\;/p&gt\;\n&lt\;p&gt\;We've updated our
	 October 12th event to include a Dyno Competition:&lt\;/p&gt\;\n&lt\;p&gt\
	; &lt\;/p&gt\;\n&lt\;p&gt\;\"Attention high powered Imports and Domestics
	 in the DMV area and beyond..... We're going to add some excitement to our
	 car meet/dyno day by running a friendly Dyno Competition. &lt\;/p&gt\;\n&
	lt\;p&gt\; &lt\;/p&gt\;\n&lt\;p&gt\;We'll have two classes with awards/pr
	izes to be determined shortly. The first class is the NA (normally aspirat
	ed class) and the second class is the FI (forced induction class). We're k
	eeping it simple and putting FWD\, RWD\, and AWD together.&lt\;/p&gt\;\n&l
	t\;p&gt\; &lt\;/p&gt\;\n&lt\;p&gt\;Furthermore\, all cars - Domestics and
	 Imports\, I-4's\, V6's\, V8's\, etc. will be competing against one anothe
	r too. Each person will get a normal printout of their actual dyno numbers
	. However\, your final score for the competition will be based on cylinder
	 count. Yes\, cylinder count! There is no reason why your boosted 4-banger
	 cannot compete with a boosted V8 and vice versa based on this format.&lt\
	;/p&gt\;\n&lt\;p&gt\; &lt\;/p&gt\;\n&lt\;p&gt\;The discounted dyno rates 
	for the day will be $60 for 2WD and $75 for 4WD. Please contact us ASAP at
	 703-257-1728 to pre-register your dyno spot as they will be limited.\"&lt
	\;/p&gt\;\n&lt\;p&gt\;__________________&lt\;/p&gt\;\n&lt\;p&gt\;Mike @ PT
	UNING&lt\;/p&gt\;\n&lt\;p&gt\;AIM/Email: &lt\;a href=\"mailto:\" rel=\"\"&
	gt\;mike@ptuning.com&lt\;/a&gt\;&lt\;/p&gt\;\n&lt\;p&gt\;facebook.com/page
	s/PTUNING/185497841268&lt\;/p&gt\;\n&lt\;p&gt\; &lt\;/p&gt\;\n&lt\;p&gt\
	; &lt\;/p&gt\;\n&lt\;p&gt\;*** DISCLAIMER ***&lt\;/p&gt\;\n&lt\;p&gt\; &
	lt\;/p&gt\;\n&lt\;p&gt\;This event is hosted by another club\, vendor or o
	ther non-affiliated individual\, it is not organized by DCMM. It is posted
	 here for informational purposes only and DCMM accepts no responsibility f
	or the event planning nor what takes place during the event. Participants 
	shall expect to be subject to the rules and guidelines set forth by the ev
	ent organizer(s).&lt\;/p&gt\;\n&lt\;p&gt\; &lt\;/p&gt\;\n&lt\;p&gt\;*** D
	ISCLAIMER ***&lt\;/p&gt\;\n \n
DTSTART:20131012T000000Z
END:VEVENT
END:VCALENDAR
