BEGIN:VCALENDAR
VERSION:2.0
PRODID:-//InvisionCommunity Events 4.7.24//EN
METHOD:PUBLISH
CALSCALE:GREGORIAN
REFRESH-INTERVAL:PT15M
X-PUBLISHED-TTL:PT15M
X-WR-CALNAME:DCMM Club Calendar
NAME:DCMM Club Calendar
BEGIN:VTIMEZONE
TZID:Europe/London
TZURL:http://tzurl.org/zoneinfo/Europe/London
X-LIC-LOCATION:Europe/London
BEGIN:DAYLIGHT
TZOFFSETFROM:+0000
TZOFFSETTO:+0100
TZNAME:BST
DTSTART:20130331T020000Z
RRULE:FREQ=YEARLY;BYMONTH=3;BYDAY=-1SU
END:DAYLIGHT
BEGIN:STANDARD
TZOFFSETFROM:+0100
TZOFFSETTO:+0000
TZNAME:GMT
DTSTART:20131027T020000Z
RRULE:FREQ=YEARLY;BYMONTH=10;BYDAY=-1SU
END:STANDARD
END:VTIMEZONE
BEGIN:VEVENT
SUMMARY:Odds and Ends Detailing clinic - Part deux
DTSTAMP:20130909T133017Z
SEQUENCE:0
UID:291-1-481082abbf5b614c3f843e6f2c1af318@dcmetrominis.org
ORGANIZER;CN="Bert":webmaster@dcmetrominis.org
DESCRIPTION:\n \n&lt\;p&gt\;Darryl has graciously offered to host anoth
	er detailing clinic for those interested in knowing how to properly wash a
	nd detail your car from start (wheel and rim washing and the 2 bucket wash
	 approach) to polishing to every last thing.  This will not be a MINI only
	 event this time but I found the July event VERY informative.  &lt\;/p&gt\
	;\n&lt\;p&gt\; &lt\;/p&gt\;\n&lt\;p&gt\;Darryl is the local supplier for 
	Adam's Premium Car Care Products and has supplies for sale. (&lt\;a href=\
	"http://www.adamspolishes.com\" rel=\"external nofollow\"&gt\;http://www.a
	damspolishes.com&lt\;/a&gt\;)&lt\;/p&gt\;\n&lt\;p&gt\; &lt\;/p&gt\;\n&lt\
	;p&gt\;10 AM start &lt\;/p&gt\;\n&lt\;p&gt\; &lt\;/p&gt\;\n&lt\;p&gt\;Odd
	s and Ends Detailing (&lt\;a href=\"http://www.oddsandendsdetailing.com\" 
	rel=\"external nofollow\"&gt\;http://www.oddsandendsdetailing.com&lt\;/a&g
	t\;) &lt\;/p&gt\;\n&lt\;p&gt\;is just off S. Sterling Blvd\, 3 blocks east
	 of Rt 28\, not far from Sterling MINI&lt\;/p&gt\;\n&lt\;p&gt\;201 Davis D
	rive\, Suite LL (lite industrial park\, around the back)&lt\;/p&gt\;\n&lt\
	;p&gt\;Sterling\, VA   20164&lt\;/p&gt\;\n&lt\;p&gt\; &lt\;/p&gt\;\n&lt\;
	p&gt\;703-675-8819&lt\;/p&gt\;\n&lt\;p&gt\;To contact us:&lt\;/p&gt\;\n&lt
	\;p&gt\;E-mail: &lt\;a href=\"mailto:\" rel=\"\"&gt\;services@oddsandendsd
	etailing.com&lt\;/a&gt\;&lt\;/p&gt\;\n \n
DTSTART:20131020T000000Z
END:VEVENT
END:VCALENDAR
