BEGIN:VCALENDAR
VERSION:2.0
PRODID:-//InvisionCommunity Events 4.7.24//EN
METHOD:PUBLISH
CALSCALE:GREGORIAN
REFRESH-INTERVAL:PT15M
X-PUBLISHED-TTL:PT15M
X-WR-CALNAME:DCMM Club Calendar
NAME:DCMM Club Calendar
BEGIN:VTIMEZONE
TZID:Europe/London
TZURL:http://tzurl.org/zoneinfo/Europe/London
X-LIC-LOCATION:Europe/London
BEGIN:DAYLIGHT
TZOFFSETFROM:+0000
TZOFFSETTO:+0100
TZNAME:BST
DTSTART:20130331T020000Z
RRULE:FREQ=YEARLY;BYMONTH=3;BYDAY=-1SU
END:DAYLIGHT
BEGIN:STANDARD
TZOFFSETFROM:+0100
TZOFFSETTO:+0000
TZNAME:GMT
DTSTART:20131027T020000Z
RRULE:FREQ=YEARLY;BYMONTH=10;BYDAY=-1SU
END:STANDARD
END:VTIMEZONE
BEGIN:VEVENT
SUMMARY:Detailing Clinic
DTSTAMP:20130619T124530Z
SEQUENCE:0
UID:277-1-481082abbf5b614c3f843e6f2c1af318@dcmetrominis.org
ORGANIZER;CN="TGGRRR (Ali)":webmaster@dcmetrominis.org
DESCRIPTION:\n \n&lt\;p&gt\;Where :Odds and Ends Detailing&lt\;/p&gt\;\
	n&lt\;p&gt\;201 Davis Drive Suite LL&lt\;/p&gt\;\n&lt\;p&gt\;Sterling\, VA
	   20164&lt\;/p&gt\;\n&lt\;p&gt\; &lt\;/p&gt\;\n&lt\;p&gt\;When July 14 s
	tarting at 9:00&lt\;/p&gt\;\n&lt\;p&gt\;He supplies donuts and bagels too!
	!!!&lt\;/p&gt\;\n&lt\;p&gt\; &lt\;/p&gt\;\n&lt\;p&gt\;Details from Darryl
	: &lt\;/p&gt\;\n&lt\;p&gt\;The typical clinic runs about 4 hours. It cover
	s everything from a proper two bucket wash\, drying\, claying\, polishing\
	, and then protecting. I like to get them started around 9 so we wrap up a
	s close to lunch time (ish) as possible.&lt\;/p&gt\;\n&lt\;p&gt\;I try not
	 to rush and have a free form Q&amp\;A throughout the entire time but when
	 people get anxious and jump ahead\, I'll simply remind them to ask me lat
	er about that topic or politely inform them that we'll get to that later i
	n the process. Most everyone is pleasantly surprised at how much info is p
	resented and how much they learn even if they've been DIYing for many year
	s! If the MINI crown is big on DIY\, I'm sure everyone will really enjoy t
	hemselves.&lt\;/p&gt\;\n&lt\;p&gt\; &lt\;/p&gt\;\n&lt\;p&gt\;I will also 
	have all retail products on sale for the event.&lt\;/p&gt\;\n \n
DTSTART:20130714T000000Z
END:VEVENT
END:VCALENDAR
