BEGIN:VCALENDAR
VERSION:2.0
PRODID:-//InvisionCommunity Events 4.7.24//EN
METHOD:PUBLISH
CALSCALE:GREGORIAN
REFRESH-INTERVAL:PT15M
X-PUBLISHED-TTL:PT15M
X-WR-CALNAME:DCMM Club Calendar
NAME:DCMM Club Calendar
BEGIN:VTIMEZONE
TZID:Europe/London
TZURL:http://tzurl.org/zoneinfo/Europe/London
X-LIC-LOCATION:Europe/London
BEGIN:DAYLIGHT
TZOFFSETFROM:+0000
TZOFFSETTO:+0100
TZNAME:BST
DTSTART:20130331T020000Z
RRULE:FREQ=YEARLY;BYMONTH=3;BYDAY=-1SU
END:DAYLIGHT
BEGIN:STANDARD
TZOFFSETFROM:+0100
TZOFFSETTO:+0000
TZNAME:GMT
DTSTART:20131027T020000Z
RRULE:FREQ=YEARLY;BYMONTH=10;BYDAY=-1SU
END:STANDARD
END:VTIMEZONE
BEGIN:VEVENT
SUMMARY:Paw Paw Tunnel Run
DTSTAMP:20130603T031738Z
SEQUENCE:0
UID:274-1-481082abbf5b614c3f843e6f2c1af318@dcmetrominis.org
ORGANIZER;CN="TGGRRR (Ali)":webmaster@dcmetrominis.org
DESCRIPTION:\n \n&lt\;p&gt\;Meeting at the Market Street Coffee house a
	t 9:30&lt\;/p&gt\;\n&lt\;p&gt\;Drivers meeting at 10:00&lt\;/p&gt\;\n&lt\;
	p&gt\;&lt\;a href=\"http://marketstreetcoffeeshops.com/index.php?id=3\" re
	l=\"external nofollow\"&gt\;http://marketstreetcoffeeshops.com/index.php?i
	d=3&lt\;/a&gt\;&lt\;/p&gt\;\n&lt\;p&gt\; &lt\;/p&gt\;\n&lt\;p&gt\;1020 E.
	 Main St Purcellville\, VA 20132&lt\;/p&gt\;\n&lt\;p&gt\; &lt\;/p&gt\;\n&
	lt\;p&gt\;The route is about 66 miles in to the park. We'll be making a st
	op in Winchester to pick up food for lunch.&lt\;/p&gt\;\n&lt\;p&gt\; &lt\
	;/p&gt\;\n&lt\;p&gt\;We'll spend about an hour and a half at the park and 
	then head back. While at the park you can walk to and through the tunnel\,
	 we can picnic and enjoy the park. If anyone wants to grill\, they have gr
	ills. There are picnic tables but they aren't close to each other. The wal
	k to the tunnel is about a half a mile and is very flat. The tunnel is dar
	k\, but you can see light on either end. &lt\;/p&gt\;\n&lt\;p&gt\; &lt\;/
	p&gt\;\n&lt\;p&gt\;We will not caravan back to the start\, instead we'll s
	top at the Virginia Farmers Market on route 522 about 30 miles from Paw Pa
	w. People can drop off from here as they see fit.&lt\;/p&gt\;\n&lt\;p&gt\;
	 &lt\;/p&gt\;\n&lt\;p&gt\;Here's a link to the route&lt\;/p&gt\;\n&lt\;p&
	gt\;&lt\;a href=\"http://goo.gl/maps/MrGbM\" rel=\"external nofollow\"&gt\
	;http://goo.gl/maps/MrGbM&lt\;/a&gt\;&lt\;/p&gt\;\n&lt\;p&gt\; &lt\;/p&gt
	\;\n&lt\;p&gt\;Here's a link to some information about Paw Paw tunnel&lt\;
	/p&gt\;\n&lt\;p&gt\;&lt\;a href=\"http://www.nps.gov/choh/upload/pawpawbro
	chure_final.pdf\" rel=\"external nofollow\"&gt\;http://www.nps.gov/choh/up
	load/pawpawbrochure_final.pdf&lt\;/a&gt\;&lt\;/p&gt\;\n&lt\;p&gt\; &lt\;/
	p&gt\;\n&lt\;p&gt\;and some pics we took today&lt\;/p&gt\;\n&lt\;p&gt\; &
	lt\;/p&gt\;\n&lt\;p&gt\;&lt\;a href=\"http://www.alicyndrew.com/pawpaw#h6f
	51299a\" rel=\"external nofollow\"&gt\;http://www.alicyndrew.com/pawpaw#h6
	f51299a&lt\;/a&gt\;&lt\;/p&gt\;\n&lt\;p&gt\; &lt\;/p&gt\;\n&lt\;p&gt\;The
	 first part of the route is fairly straight and scenic\, but it does get m
	uch better after Winchester.&lt\;/p&gt\;\n&lt\;p&gt\; &lt\;/p&gt\;\n&lt\;
	p&gt\;There are NO RESTAURANTS in the town of Paw Paw\, plan to purchase l
	unch in Winchester or bring it. We can also choose to potluck and all get 
	something at the market.&lt\;/p&gt\;\n&lt\;p&gt\; &lt\;/p&gt\;\n&lt\;p&gt
	\;This run is super friendly for kids and or dogs!&lt\;/p&gt\;\n&lt\;p&gt\
	; &lt\;/p&gt\;\n&lt\;p&gt\; &lt\;/p&gt\;\n&lt\;p&gt\; &lt\;/p&gt\;\n&lt
	\;p&gt\;things to bring:&lt\;/p&gt\;\n&lt\;p&gt\;Flashlight&lt\;/p&gt\;\n&
	lt\;p&gt\;lunch/ drinks&lt\;/p&gt\;\n&lt\;p&gt\;chairs or blankets for pic
	nic&lt\;/p&gt\;\n&lt\;p&gt\;comfortable walking shoes&lt\;/p&gt\;\n&lt\;p&
	gt\;Walkie Talkies&lt\;/p&gt\;\n&lt\;p&gt\; &lt\;/p&gt\;\n&lt\;p&gt\;Expe
	ct to return to Northern VA around 4:00ish&lt\;/p&gt\;\n&lt\;p&gt\; &lt\;
	/p&gt\;\n&lt\;p&gt\;IF it's Raining we will reschedule as there is no shel
	ter at the park&lt\;/p&gt\;\n \n
DTSTART:20130623T000000Z
END:VEVENT
END:VCALENDAR
