BEGIN:VCALENDAR
VERSION:2.0
PRODID:-//InvisionCommunity Events 4.7.24//EN
METHOD:PUBLISH
CALSCALE:GREGORIAN
REFRESH-INTERVAL:PT15M
X-PUBLISHED-TTL:PT15M
X-WR-CALNAME:DCMM Club Calendar
NAME:DCMM Club Calendar
BEGIN:VTIMEZONE
TZID:Europe/London
TZURL:http://tzurl.org/zoneinfo/Europe/London
X-LIC-LOCATION:Europe/London
BEGIN:DAYLIGHT
TZOFFSETFROM:+0000
TZOFFSETTO:+0100
TZNAME:BST
DTSTART:20130331T020000Z
RRULE:FREQ=YEARLY;BYMONTH=3;BYDAY=-1SU
END:DAYLIGHT
BEGIN:STANDARD
TZOFFSETFROM:+0100
TZOFFSETTO:+0000
TZNAME:GMT
DTSTART:20131027T020000Z
RRULE:FREQ=YEARLY;BYMONTH=10;BYDAY=-1SU
END:STANDARD
END:VTIMEZONE
BEGIN:VEVENT
SUMMARY:Premier of Fast and Furious 6
DTSTAMP:20130512T000010Z
SEQUENCE:0
UID:269-1-481082abbf5b614c3f843e6f2c1af318@dcmetrominis.org
ORGANIZER;CN="TGGRRR (Ali)":webmaster@dcmetrominis.org
DESCRIPTION:\n \n&lt\;p&gt\;Come join PTUNING staff at a special premie
	re of Fast and Furious 6!  A few select shop cars and customer cars will b
	e displayed right in front of the theater\, roped off behind red velvet!  
	Cars will be displayed from 5pm to 10pm may 24. Show time will be posted a
	s it is released. &lt\;/p&gt\;\n&lt\;p&gt\; &lt\;/p&gt\;\n&lt\;p&gt\;Loca
	tion is\, Centerville multiplex\, in Centerville\, VA.    &lt\;/p&gt\;\n&l
	t\;p&gt\;6201 Multiplex Drive\, Centreville\, VA&lt\;/p&gt\;\n&lt\;p&gt\;
	 &lt\;/p&gt\;\n&lt\;p&gt\; &lt\;/p&gt\;\n&lt\;p&gt\;Late dinner after at
	 Korshie\, korean bbq and sushi buffet! &lt\;/p&gt\;\n&lt\;p&gt\; &lt\;/p
	&gt\;\n&lt\;p&gt\;The restaurant is all you can eat for $28.95 pp&lt\;/p&g
	t\;\n&lt\;p&gt\; &lt\;/p&gt\;\n&lt\;p&gt\;&lt\;a href=\"http://www.korshi
	.com/\" rel=\"external nofollow\"&gt\;http://www.korshi.com/&lt\;/a&gt\;&l
	t\;/p&gt\;\n&lt\;p&gt\; &lt\;/p&gt\;\n&lt\;p&gt\;Address:  5728 Pickwick 
	Rd.\, Centreville\, VA  20121&lt\;/p&gt\;\n&lt\;p&gt\; &lt\;/p&gt\;\n&lt\
	;p&gt\;To keep things simple please just use the RSVPs for dinner ONLY\, y
	ou  can make a comment if you'll be only doing the movie\, but we need an 
	accurate head count for the dinner.&lt\;/p&gt\;\n \n
DTSTART:20130524T000000Z
END:VEVENT
END:VCALENDAR
