BEGIN:VCALENDAR
VERSION:2.0
PRODID:-//InvisionCommunity Events 4.7.24//EN
METHOD:PUBLISH
CALSCALE:GREGORIAN
REFRESH-INTERVAL:PT15M
X-PUBLISHED-TTL:PT15M
X-WR-CALNAME:DCMM Club Calendar
NAME:DCMM Club Calendar
BEGIN:VTIMEZONE
TZID:Europe/London
TZURL:http://tzurl.org/zoneinfo/Europe/London
X-LIC-LOCATION:Europe/London
BEGIN:DAYLIGHT
TZOFFSETFROM:+0000
TZOFFSETTO:+0100
TZNAME:BST
DTSTART:20130331T020000Z
RRULE:FREQ=YEARLY;BYMONTH=3;BYDAY=-1SU
END:DAYLIGHT
BEGIN:STANDARD
TZOFFSETFROM:+0100
TZOFFSETTO:+0000
TZNAME:GMT
DTSTART:20131027T020000Z
RRULE:FREQ=YEARLY;BYMONTH=10;BYDAY=-1SU
END:STANDARD
END:VTIMEZONE
BEGIN:VEVENT
SUMMARY:Happy Hour / Dinner
DTSTAMP:20130507T190642Z
SEQUENCE:0
UID:268-1-481082abbf5b614c3f843e6f2c1af318@dcmetrominis.org
ORGANIZER;CN="TGGRRR (Ali)":webmaster@dcmetrominis.org
DESCRIPTION:\n \n&lt\;p&gt\;Location: Grevey's Restaurant &lt\;/p&gt\;\
	n&lt\;p&gt\;8130 Arlington Blvd. &lt\;/p&gt\;\n&lt\;p&gt\;Falls Church Va 
	22011&lt\;/p&gt\;\n&lt\;p&gt\; &lt\;/p&gt\;\n&lt\;p&gt\;Thursday May 9 &l
	t\;/p&gt\;\n&lt\;p&gt\;Time 7:00&lt\;/p&gt\;\n&lt\;p&gt\; &lt\;/p&gt\;\n&
	lt\;p&gt\;Just a casual gathering to get together and share war stories ab
	out the Dragon\, our MINIs or what ever.&lt\;/p&gt\;\n&lt\;p&gt\; &lt\;/p
	&gt\;\n&lt\;p&gt\;I need to firm up the number on reservations since this 
	is a short notice\, so RSVP when you know.&lt\;/p&gt\;\n \n
DTSTART:20130509T000000Z
END:VEVENT
END:VCALENDAR
