BEGIN:VCALENDAR
VERSION:2.0
PRODID:-//InvisionCommunity Events 4.7.24//EN
METHOD:PUBLISH
CALSCALE:GREGORIAN
REFRESH-INTERVAL:PT15M
X-PUBLISHED-TTL:PT15M
X-WR-CALNAME:DCMM Club Calendar
NAME:DCMM Club Calendar
BEGIN:VTIMEZONE
TZID:Europe/London
TZURL:http://tzurl.org/zoneinfo/Europe/London
X-LIC-LOCATION:Europe/London
BEGIN:DAYLIGHT
TZOFFSETFROM:+0000
TZOFFSETTO:+0100
TZNAME:BST
DTSTART:20130331T020000Z
RRULE:FREQ=YEARLY;BYMONTH=3;BYDAY=-1SU
END:DAYLIGHT
BEGIN:STANDARD
TZOFFSETFROM:+0100
TZOFFSETTO:+0000
TZNAME:GMT
DTSTART:20131027T020000Z
RRULE:FREQ=YEARLY;BYMONTH=10;BYDAY=-1SU
END:STANDARD
END:VTIMEZONE
BEGIN:VEVENT
SUMMARY:MOT - MINIs On Top 2013 (Mt. Washington\, NH)
DTSTAMP:20130106T031504Z
SEQUENCE:0
UID:247-1-481082abbf5b614c3f843e6f2c1af318@dcmetrominis.org
ORGANIZER;CN="Bert":webmaster@dcmetrominis.org
DESCRIPTION:\n \n&lt\;p&gt\;I discussed MINIs On Top (MOT 2013) at the 
	Post Holiday Party and many have heard of it but no one seems to have atte
	nded.  Since I cannot make MOTD 2013 at the beginning of May I am hoping t
	o attend MOT 2013 in NH instead.  &lt\;/p&gt\;\n&lt\;p&gt\; &lt\;/p&gt\;\
	n&lt\;p&gt\;Here is a Facebook page: link:https://www.facebook.com/events/
	194780513996757/ &lt\;/p&gt\;\n&lt\;p&gt\; &lt\;/p&gt\;\n&lt\;p&gt\;Here 
	is the MOT 2012 page with archived info.: &lt\;/p&gt\;\n&lt\;p&gt\;&lt\;a 
	href=\"http://minisontop.com\" rel=\"external nofollow\"&gt\;http://miniso
	ntop.com&lt\;/a&gt\; &lt\;/p&gt\;\n&lt\;p&gt\; &lt\;/p&gt\;\n&lt\;p&gt\;A
	nyone else interested?&lt\;/p&gt\;\n \n
DTSTART:20130621T213000Z
DTEND:20130623T053000Z
END:VEVENT
END:VCALENDAR
