BEGIN:VCALENDAR
VERSION:2.0
PRODID:-//InvisionCommunity Events 4.7.24//EN
METHOD:PUBLISH
CALSCALE:GREGORIAN
REFRESH-INTERVAL:PT15M
X-PUBLISHED-TTL:PT15M
X-WR-CALNAME:DCMM Club Calendar
NAME:DCMM Club Calendar
BEGIN:VTIMEZONE
TZID:Europe/London
TZURL:http://tzurl.org/zoneinfo/Europe/London
X-LIC-LOCATION:Europe/London
BEGIN:DAYLIGHT
TZOFFSETFROM:+0000
TZOFFSETTO:+0100
TZNAME:BST
DTSTART:20120325T020000Z
RRULE:FREQ=YEARLY;BYMONTH=3;BYDAY=-1SU
END:DAYLIGHT
BEGIN:STANDARD
TZOFFSETFROM:+0100
TZOFFSETTO:+0000
TZNAME:GMT
DTSTART:20121028T020000Z
RRULE:FREQ=YEARLY;BYMONTH=10;BYDAY=-1SU
END:STANDARD
END:VTIMEZONE
BEGIN:VEVENT
SUMMARY:Eight Annual Mach V Track Day
DTSTAMP:20120921T210817Z
SEQUENCE:0
UID:236-1-481082abbf5b614c3f843e6f2c1af318@dcmetrominis.org
ORGANIZER;CN="cmcveay":webmaster@dcmetrominis.org
DESCRIPTION:\n \n&lt\;p&gt\;It's the eighth annual Mach V Track Day!  W
	e're sponsoring another NASA HPDE weekend at &lt\;a href=\"http://www.summ
	itpoint-raceway.com/\" rel=\"external nofollow\"&gt\;Summit Point\, WV&lt\
	;/a&gt\;.   Mach V customers\, friends\, and fans will have a special padd
	ock area  where we can all hang out.  We'll have some special goodies to g
	ive  away.&lt\;/p&gt\;\n&lt\;p&gt\; &lt\;/p&gt\;\n&lt\;p&gt\;The date: No
	vember 3-4\, 2012.&lt\;/p&gt\;\n&lt\;p&gt\; &lt\;/p&gt\;\n&lt\;p&gt\;Ther
	e are groups for drivers of all experience levels\, from advanced  drivers
	\, to rank novices.  Anyone can drive.  Note that this weekend is  HPDE ON
	LY\, no regular NASA race classes except Time Trials\, so there  will be m
	ore track time for HPDE.  Racers\, plan to come spectate!  Or  you can alw
	ays do Time Trials.&lt\;/p&gt\;\n&lt\;p&gt\; &lt\;/p&gt\;\n&lt\;p&gt\;Mac
	h V Track Day pics from last year:&lt\;/p&gt\;\n&lt\;p&gt\; &lt\;/p&gt\;\
	n&lt\;p&gt\;&lt\;img src=\"http://www.dcmetrominis.org/forums/images/statu
	sicon/wol_error.gif\" alt=\"wol_error.gif\" /&gt\;This image has been resi
	zed. Click this bar to view the full image. The original image is sized 12
	80x800.&lt\;img src=\"http://i6.photobucket.com/albums/y249/danhurwitz/Eve
	nts/Mach%20V%20Track%20Day%202011/106.jpg\" alt=\"106.jpg\" /&gt\;&lt\;/p&
	gt\;\n&lt\;p&gt\; &lt\;/p&gt\;\n&lt\;p&gt\;&lt\;img src=\"http://www.dcme
	trominis.org/forums/images/statusicon/wol_error.gif\" alt=\"wol_error.gif\
	" /&gt\;This image has been resized. Click this bar to view the full image
	. The original image is sized 1280x810.&lt\;img src=\"http://i6.photobucke
	t.com/albums/y249/danhurwitz/Events/Mach%20V%20Track%20Day%202011/730.jpg\
	" alt=\"730.jpg\" /&gt\;&lt\;/p&gt\;\n&lt\;p&gt\; &lt\;/p&gt\;\n&lt\;p&gt
	\;&lt\;img src=\"http://www.dcmetrominis.org/forums/images/statusicon/wol_
	error.gif\" alt=\"wol_error.gif\" /&gt\;This image has been resized. Click
	 this bar to view the full image. The original image is sized 1280x800.&lt
	\;img src=\"http://i6.photobucket.com/albums/y249/danhurwitz/Events/Mach%2
	0V%20Track%20Day%202011/715.jpg\" alt=\"715.jpg\" /&gt\;&lt\;/p&gt\;\n&lt\
	;p&gt\; &lt\;/p&gt\;\n&lt\;p&gt\;&lt\;img src=\"http://www.dcmetrominis.o
	rg/forums/images/statusicon/wol_error.gif\" alt=\"wol_error.gif\" /&gt\;Th
	is image has been resized. Click this bar to view the full image. The orig
	inal image is sized 1280x929.&lt\;img src=\"http://i6.photobucket.com/albu
	ms/y249/danhurwitz/Events/Mach%20V%20Track%20Day%202011/376.jpg\" alt=\"37
	6.jpg\" /&gt\;&lt\;/p&gt\;\n&lt\;p&gt\; &lt\;/p&gt\;\n&lt\;p&gt\;&lt\;img
	 src=\"http://www.dcmetrominis.org/forums/images/statusicon/wol_error.gif\
	" alt=\"wol_error.gif\" /&gt\;This image has been resized. Click this bar 
	to view the full image. The original image is sized 1280x980.&lt\;img src=
	\"http://i6.photobucket.com/albums/y249/danhurwitz/Events/Mach%20V%20Track
	%20Day%202011/695.jpg\" alt=\"695.jpg\" /&gt\;&lt\;/p&gt\;\n&lt\;p&gt\; &
	lt\;/p&gt\;\n&lt\;p&gt\; &lt\;/p&gt\;\n&lt\;p&gt\;&lt\;a href=\"https://w
	ww.nasaproracing.com/event/1514\" rel=\"external nofollow\"&gt\;&lt\;stron
	g&gt\;Registration is now open!&lt\;/strong&gt\;&lt\;/a&gt\;   Sign up qui
	ckly\, because this event fills up fast.  But if your class  is full\, don
	't despair -- PM me\, and I can make some special stuff  happen.&lt\;/p&gt
	\;\n&lt\;p&gt\; &lt\;/p&gt\;\n&lt\;p&gt\;(Click the link above to registe
	r.  Put \"Mach V 2012\" in the Comments field to let NASA know you're with
	 us.)&lt\;/p&gt\;\n&lt\;p&gt\; &lt\;/p&gt\;\n&lt\;p&gt\;More NASA info ab
	out the event &lt\;a href=\"http://www.nasaracing.net/?page_id=1949\" rel=
	\"external nofollow\"&gt\;HERE&lt\;/a&gt\;.&lt\;/p&gt\;\n&lt\;p&gt\; &lt\
	;/p&gt\;\n&lt\;p&gt\;--Dan&lt\;/p&gt\;\n&lt\;p&gt\;Mach V&lt\;/p&gt\;\n&lt
	\;p&gt\;&lt\;a href=\"http://www.fastmini.net\" rel=\"external nofollow\"&
	gt\;FastMINI.net&lt\;/a&gt\;&lt\;/p&gt\;\n \n
DTSTART:20121103T000000Z
END:VEVENT
END:VCALENDAR
