BEGIN:VCALENDAR
VERSION:2.0
PRODID:-//InvisionCommunity Events 4.7.24//EN
METHOD:PUBLISH
CALSCALE:GREGORIAN
REFRESH-INTERVAL:PT15M
X-PUBLISHED-TTL:PT15M
X-WR-CALNAME:DCMM Club Calendar
NAME:DCMM Club Calendar
BEGIN:VTIMEZONE
TZID:Europe/London
TZURL:http://tzurl.org/zoneinfo/Europe/London
X-LIC-LOCATION:Europe/London
BEGIN:DAYLIGHT
TZOFFSETFROM:+0000
TZOFFSETTO:+0100
TZNAME:BST
DTSTART:20120325T020000Z
RRULE:FREQ=YEARLY;BYMONTH=3;BYDAY=-1SU
END:DAYLIGHT
BEGIN:STANDARD
TZOFFSETFROM:+0100
TZOFFSETTO:+0000
TZNAME:GMT
DTSTART:20121028T020000Z
RRULE:FREQ=YEARLY;BYMONTH=10;BYDAY=-1SU
END:STANDARD
END:VTIMEZONE
BEGIN:VEVENT
SUMMARY:\"The Bull Run\" to Manassas Battlefield
DTSTAMP:20120829T013302Z
SEQUENCE:0
UID:232-1-481082abbf5b614c3f843e6f2c1af318@dcmetrominis.org
ORGANIZER;CN="smoke789":webmaster@dcmetrominis.org
DESCRIPTION:\n \n&lt\;p&gt\;&lt\;strong&gt\;Meet at Starbucks - 45 minu
	te drive with twisties - Finish at Manassas National Battlefield&lt\;/stro
	ng&gt\;&lt\;/p&gt\;\n&lt\;p&gt\;Do you have Labor Day off?  Do the kids?  
	It's going to be a long\, beautiful weekend!  How about a little time with
	 friends\, cars\, twisties and history?&lt\;/p&gt\;\n&lt\;p&gt\; &lt\;/p&
	gt\;\n&lt\;p&gt\;Gathering Time: 9:30 am&lt\;/p&gt\;\n&lt\;p&gt\;  Gatheri
	ng Place:  Starbucks @ 8971 Ox Road\, Lorton\, VA&lt\;/p&gt\;\n&lt\;p&gt\;
	  In the “Shoppes of Lorton Valley” Plaza&lt\;/p&gt\;\n&lt\;p&gt\; &l
	t\;/p&gt\;\n&lt\;p&gt\;  Depart the parking lot at 10:30.&lt\;/p&gt\;\n&lt
	\;p&gt\;  We’ll drive down Hampton Road\, through Historic Clifton\, VA\
	, skirting Bull Run Regional park before arriving at our historic destinat
	ion:   Manassas National Battlefield&lt\;/p&gt\;\n&lt\;p&gt\; &lt\;/p&gt\
	;\n&lt\;p&gt\;  Manassas National Battlefield&lt\;/p&gt\;\n&lt\;p&gt\;6511
	 Sudley Road  Manassas\, Virginia 20109&lt\;/p&gt\;\n&lt\;p&gt\;&lt\;a hre
	f=\"http://www.nps.gov/mana/index.htm\" rel=\"external nofollow\"&gt\;http
	://www.nps.gov/mana/index.htm&lt\;/a&gt\;&lt\;/p&gt\;\n&lt\;p&gt\; &lt\;/
	p&gt\;\n&lt\;p&gt\;&lt\;strong&gt\;&lt\;span style=\"color:#b8860b\;\"&gt\
	;Entrance Fees&lt\;/span&gt\;&lt\;/strong&gt\;&lt\;/p&gt\;\n&lt\;p&gt\;  M
	anassas National Battlefield Park is a fee site. Please pay your fee at th
	e Henry Hill Visitor Center.&lt\;/p&gt\;\n&lt\;p&gt\;  $3.00 per person (1
	6 years or older) - good for 3 Days.&lt\;/p&gt\;\n&lt\;p&gt\;Children unde
	r 16 - FREE.&lt\;/p&gt\;\n&lt\;p&gt\;$20.00 - Manassas Annual Pass.&lt\;/p
	&gt\;\n&lt\;p&gt\;$80.00 - Interagency Annual Pass.&lt\;/p&gt\;\n&lt\;p&gt
	\;Park accepts cash\, check or credit cards.&lt\;/p&gt\;\n \n
DTSTART:20120903T000000Z
END:VEVENT
END:VCALENDAR
