BEGIN:VCALENDAR
VERSION:2.0
PRODID:-//InvisionCommunity Events 4.7.24//EN
METHOD:PUBLISH
CALSCALE:GREGORIAN
REFRESH-INTERVAL:PT15M
X-PUBLISHED-TTL:PT15M
X-WR-CALNAME:DCMM Club Calendar
NAME:DCMM Club Calendar
BEGIN:VTIMEZONE
TZID:Europe/London
TZURL:http://tzurl.org/zoneinfo/Europe/London
X-LIC-LOCATION:Europe/London
BEGIN:DAYLIGHT
TZOFFSETFROM:+0000
TZOFFSETTO:+0100
TZNAME:BST
DTSTART:20120325T020000Z
RRULE:FREQ=YEARLY;BYMONTH=3;BYDAY=-1SU
END:DAYLIGHT
BEGIN:STANDARD
TZOFFSETFROM:+0100
TZOFFSETTO:+0000
TZNAME:GMT
DTSTART:20121028T020000Z
RRULE:FREQ=YEARLY;BYMONTH=10;BYDAY=-1SU
END:STANDARD
END:VTIMEZONE
BEGIN:VEVENT
SUMMARY:Happy Hour! Glory Days Grill in Fairfax
DTSTAMP:20120827T230916Z
SEQUENCE:0
UID:231-1-481082abbf5b614c3f843e6f2c1af318@dcmetrominis.org
ORGANIZER;CN="GreenCactus":webmaster@dcmetrominis.org
DESCRIPTION:\n \n&lt\;p&gt\;I'm leaving work early tomorrow and will be
	 in Fairfax\, so how about a happy hour?&lt\;/p&gt\;\n&lt\;p&gt\; &lt\;/p
	&gt\;\n&lt\;p&gt\;Glory Days Grill&lt\;/p&gt\;\n&lt\;p&gt\;3059 Nutley Str
	eet&lt\;/p&gt\;\n&lt\;p&gt\;Fairfax\, VA&lt\;/p&gt\;\n&lt\;p&gt\; &lt\;/p
	&gt\;\n&lt\;p&gt\;Lots of parking! &lt\;/p&gt\;\n&lt\;p&gt\; &lt\;/p&gt\;
	\n&lt\;p&gt\;If it's nice\, I'll try for a table outside.&lt\;/p&gt\;\n \
	n
DTSTART:20120828T230000Z
DTEND:20120829T010000Z
END:VEVENT
END:VCALENDAR
