BEGIN:VCALENDAR
VERSION:2.0
PRODID:-//InvisionCommunity Events 4.7.24//EN
METHOD:PUBLISH
CALSCALE:GREGORIAN
REFRESH-INTERVAL:PT15M
X-PUBLISHED-TTL:PT15M
X-WR-CALNAME:DCMM Club Calendar
NAME:DCMM Club Calendar
BEGIN:VTIMEZONE
TZID:Europe/London
TZURL:http://tzurl.org/zoneinfo/Europe/London
X-LIC-LOCATION:Europe/London
BEGIN:DAYLIGHT
TZOFFSETFROM:+0000
TZOFFSETTO:+0100
TZNAME:BST
DTSTART:20120325T020000Z
RRULE:FREQ=YEARLY;BYMONTH=3;BYDAY=-1SU
END:DAYLIGHT
BEGIN:STANDARD
TZOFFSETFROM:+0100
TZOFFSETTO:+0000
TZNAME:GMT
DTSTART:20121028T020000Z
RRULE:FREQ=YEARLY;BYMONTH=10;BYDAY=-1SU
END:STANDARD
END:VTIMEZONE
BEGIN:VEVENT
SUMMARY:Passport MINI of Alexandria - Halloween Party
DTSTAMP:20120827T135531Z
SEQUENCE:0
UID:228-1-481082abbf5b614c3f843e6f2c1af318@dcmetrominis.org
ORGANIZER;CN="GreenCactus":webmaster@dcmetrominis.org
DESCRIPTION:\n \n&lt\;p&gt\;Passport MINI of Alexandria's Halloween Par
	ty and MINI Costume Contest!&lt\;/p&gt\;\n&lt\;p&gt\;5990 Duke St&lt\;/p&g
	t\;\n&lt\;p&gt\;Alexandria\, VA 22304&lt\;/p&gt\;\n&lt\;p&gt\; &lt\;/p&gt
	\;\n&lt\;p&gt\;Arrive as early as 10:00am.&lt\;/p&gt\;\n&lt\;p&gt\;Judging
	: 11:30am&lt\;/p&gt\;\n&lt\;p&gt\;Prizes: 12:00pm&lt\;/p&gt\;\n&lt\;p&gt\;
	 &lt\;/p&gt\;\n&lt\;p&gt\;Please only RSVP once. I will forward all of th
	e RSVPs we get here to Passport.&lt\;/p&gt\;\n \n
DTSTART:20121027T000000Z
END:VEVENT
END:VCALENDAR
