BEGIN:VCALENDAR
VERSION:2.0
PRODID:-//InvisionCommunity Events 4.7.24//EN
METHOD:PUBLISH
CALSCALE:GREGORIAN
REFRESH-INTERVAL:PT15M
X-PUBLISHED-TTL:PT15M
X-WR-CALNAME:DCMM Club Calendar
NAME:DCMM Club Calendar
BEGIN:VTIMEZONE
TZID:Europe/London
TZURL:http://tzurl.org/zoneinfo/Europe/London
X-LIC-LOCATION:Europe/London
BEGIN:DAYLIGHT
TZOFFSETFROM:+0000
TZOFFSETTO:+0100
TZNAME:BST
DTSTART:20120325T020000Z
RRULE:FREQ=YEARLY;BYMONTH=3;BYDAY=-1SU
END:DAYLIGHT
BEGIN:STANDARD
TZOFFSETFROM:+0100
TZOFFSETTO:+0000
TZNAME:GMT
DTSTART:20121028T020000Z
RRULE:FREQ=YEARLY;BYMONTH=10;BYDAY=-1SU
END:STANDARD
END:VTIMEZONE
BEGIN:VEVENT
SUMMARY:10th Anniversary Happy Hour
DTSTAMP:20120312T150439Z
SEQUENCE:0
UID:213-1-481082abbf5b614c3f843e6f2c1af318@dcmetrominis.org
ORGANIZER;CN="GreenCactus":webmaster@dcmetrominis.org
DESCRIPTION:\n \n&lt\;p&gt\;&lt\;/p&gt\;\n&lt\;div style=\"text-align:c
	enter\;\"&gt\;\n&lt\;p&gt\;March 22nd is the 10th anniversary of the first
	 MINI sold in the US. Let's celebrate with a happy hour! &lt\;/p&gt\;\n&lt
	\;p&gt\; &lt\;/p&gt\;\n&lt\;p&gt\;When: Thursday\, March 22nd at 6:30PM&l
	t\;/p&gt\;\n&lt\;p&gt\;Where: Public House No. 7&lt\;/p&gt\;\n&lt\;p&gt\;6
	315 Leesburg Pike&lt\;/p&gt\;\n&lt\;p&gt\;Falls Church\, VA 22044&lt\;/p&g
	t\;\n&lt\;p&gt\; &lt\;/p&gt\;\n&lt\;p&gt\;If it's nice out\, we can hang 
	out on the patio and stare at our MINIs. &lt\;/p&gt\;\n&lt\;/div&gt\;\n&lt
	\;p&gt\;&lt\;/p&gt\;\n&lt\;p&gt\;&lt\;/p&gt\;\n \n
DTSTART:20120322T233000Z
DTEND:20120323T023000Z
END:VEVENT
END:VCALENDAR
