BEGIN:VCALENDAR
VERSION:2.0
PRODID:-//InvisionCommunity Events 4.7.24//EN
METHOD:PUBLISH
CALSCALE:GREGORIAN
REFRESH-INTERVAL:PT15M
X-PUBLISHED-TTL:PT15M
X-WR-CALNAME:DCMM Club Calendar
NAME:DCMM Club Calendar
BEGIN:VTIMEZONE
TZID:Europe/London
TZURL:http://tzurl.org/zoneinfo/Europe/London
X-LIC-LOCATION:Europe/London
BEGIN:DAYLIGHT
TZOFFSETFROM:+0000
TZOFFSETTO:+0100
TZNAME:BST
DTSTART:20120325T020000Z
RRULE:FREQ=YEARLY;BYMONTH=3;BYDAY=-1SU
END:DAYLIGHT
BEGIN:STANDARD
TZOFFSETFROM:+0100
TZOFFSETTO:+0000
TZNAME:GMT
DTSTART:20121028T020000Z
RRULE:FREQ=YEARLY;BYMONTH=10;BYDAY=-1SU
END:STANDARD
END:VTIMEZONE
BEGIN:VEVENT
SUMMARY:BMWNCC Auto Cross School
DTSTAMP:20120115T012600Z
SEQUENCE:0
UID:204-1-481082abbf5b614c3f843e6f2c1af318@dcmetrominis.org
ORGANIZER;CN="cmcveay":webmaster@dcmetrominis.org
DESCRIPTION:\n \n&lt\;p&gt\;Please note that MINI owners have first dib
	s on the 16 slots for the March 17th first school. But if it fills up or y
	ou can't make that date the other two schools are open to everyone who is 
	a BMWCCA member.&lt\;/p&gt\;\n&lt\;p&gt\; &lt\;/p&gt\;\n&lt\;p&gt\; &lt\
	;/p&gt\;\n&lt\;p&gt\;      For the 2012 season BMWCCA is now requiring all
	 NCC Autocross participants (for events and schools) to be registered BMWC
	CA members for insurance purposes. We are offering a free points event to 
	anyone who signs up for membership. So sign up soon so that we can get you
	r free event in the system! Please see &lt\;a href=\"http://dcmetrominis.o
	rg/forums/showthread.php?t=1904\" rel=\"external nofollow\"&gt\;this post&
	lt\;/a&gt\; for details!&lt\;/p&gt\;\n&lt\;p&gt\; &lt\;/p&gt\;\n&lt\;p&gt
	\;  &lt\;em&gt\;*** DISCLAIMER ***&lt\;/em&gt\;&lt\;/p&gt\;\n&lt\;p&gt\;&l
	t\;em&gt\; &lt\;/em&gt\;&lt\;/p&gt\;\n&lt\;p&gt\;&lt\;em&gt\;This event i
	s hosted by another club\, vendor or other non-affiliated individual\, it 
	is not organized by DCMM. It is posted here for informational purposes onl
	y and DCMM accepts no responsibility for the event planning nor what takes
	 place during the event. Participants shall expect to be subject to the ru
	les and guidelines set forth by the event organizer(s).&lt\;/em&gt\;&lt\;/
	p&gt\;\n&lt\;p&gt\;&lt\;em&gt\; &lt\;/em&gt\;&lt\;/p&gt\;\n&lt\;p&gt\;&lt
	\;em&gt\;*** DISCLAIMER ***&lt\;/em&gt\;&lt\;/p&gt\;\n \n
DTSTART:20120505T000000Z
END:VEVENT
END:VCALENDAR
