BEGIN:VCALENDAR
VERSION:2.0
PRODID:-//InvisionCommunity Events 4.7.24//EN
METHOD:PUBLISH
CALSCALE:GREGORIAN
REFRESH-INTERVAL:PT15M
X-PUBLISHED-TTL:PT15M
X-WR-CALNAME:DCMM Club Calendar
NAME:DCMM Club Calendar
BEGIN:VTIMEZONE
TZID:Europe/London
TZURL:http://tzurl.org/zoneinfo/Europe/London
X-LIC-LOCATION:Europe/London
BEGIN:DAYLIGHT
TZOFFSETFROM:+0000
TZOFFSETTO:+0100
TZNAME:BST
DTSTART:20120325T020000Z
RRULE:FREQ=YEARLY;BYMONTH=3;BYDAY=-1SU
END:DAYLIGHT
BEGIN:STANDARD
TZOFFSETFROM:+0100
TZOFFSETTO:+0000
TZNAME:GMT
DTSTART:20121028T020000Z
RRULE:FREQ=YEARLY;BYMONTH=10;BYDAY=-1SU
END:STANDARD
END:VTIMEZONE
BEGIN:VEVENT
SUMMARY:Meet & Greet at MINI of Montgomery County
DTSTAMP:20120115T003200Z
SEQUENCE:0
UID:194-1-481082abbf5b614c3f843e6f2c1af318@dcmetrominis.org
ORGANIZER;CN="cmcveay":webmaster@dcmetrominis.org
DESCRIPTION:\n \n&lt\;p&gt\;It's \"Meet &amp\; Greet\" time! This month
	\, it will be held at MINI of Montgomery County from 9:30am to noon.&lt\;/
	p&gt\;\n&lt\;p&gt\; &lt\;/p&gt\;\n&lt\;p&gt\;The address is: 1190 Rockvil
	le Pike\, Rockville MD 20852&lt\;/p&gt\;\n&lt\;p&gt\; &lt\;/p&gt\;\n&lt\;
	p&gt\;Please come join us for a casual get together with new and old membe
	rs. &lt\;/p&gt\;\n&lt\;p&gt\; &lt\;/p&gt\;\n&lt\;p&gt\;Non-members and so
	on-to-be members are welcome as well.&lt\;/p&gt\;\n&lt\;p&gt\; &lt\;/p&gt
	\;\n&lt\;p&gt\; &lt\;/p&gt\;\n&lt\;p&gt\;  The RSVP option has been added
	 so we can better plan for the vent but if you aren't able to RSVP\, pleas
	e don't let that stop you from coming out to join us.&lt\;/p&gt\;\n \n
DTSTART:20121020T000000Z
END:VEVENT
END:VCALENDAR
