BEGIN:VCALENDAR
VERSION:2.0
PRODID:-//InvisionCommunity Events 4.7.24//EN
METHOD:PUBLISH
CALSCALE:GREGORIAN
REFRESH-INTERVAL:PT15M
X-PUBLISHED-TTL:PT15M
X-WR-CALNAME:DCMM Club Calendar
NAME:DCMM Club Calendar
BEGIN:VTIMEZONE
TZID:Europe/London
TZURL:http://tzurl.org/zoneinfo/Europe/London
X-LIC-LOCATION:Europe/London
BEGIN:DAYLIGHT
TZOFFSETFROM:+0000
TZOFFSETTO:+0100
TZNAME:BST
DTSTART:20110327T020000Z
RRULE:FREQ=YEARLY;BYMONTH=3;BYDAY=-1SU
END:DAYLIGHT
BEGIN:STANDARD
TZOFFSETFROM:+0100
TZOFFSETTO:+0000
TZNAME:GMT
DTSTART:20111030T020000Z
RRULE:FREQ=YEARLY;BYMONTH=10;BYDAY=-1SU
END:STANDARD
END:VTIMEZONE
BEGIN:VEVENT
SUMMARY:Pre-Holiday Happy Hour
DTSTAMP:20111205T222855Z
SEQUENCE:0
UID:181-1-481082abbf5b614c3f843e6f2c1af318@dcmetrominis.org
ORGANIZER;CN="GreenCactus":webmaster@dcmetrominis.org
DESCRIPTION:\n \n&lt\;p&gt\;&lt\;span&gt\;How about a happy hour before
	 the holiday weekend starts?&lt\;/span&gt\;&lt\;/p&gt\;\n&lt\;p&gt\; &lt\;
	/p&gt\;\n&lt\;p&gt\;&lt\;span style=\"color:#006400\;\"&gt\;When: Thursday
	\, December 22\, 2011 at 6:30pm&lt\;/span&gt\;&lt\;/p&gt\;\n&lt\;p&gt\;&lt
	\;span style=\"color:#006400\;\"&gt\;Where: Public House No. 7&lt\;/span&g
	t\;&lt\;/p&gt\;\n&lt\;p&gt\;&lt\;span style=\"color:#006400\;\"&gt\;6315 L
	eesburg Pike&lt\;/span&gt\;&lt\;/p&gt\;\n&lt\;p&gt\;&lt\;span style=\"colo
	r:#006400\;\"&gt\;Falls Church\, VA 22044&lt\;/span&gt\;&lt\;/p&gt\;\n&lt\
	;p&gt\;&lt\;span style=\"color:#006400\;\"&gt\;For those of you who have n
	ot been here before\, the pub is located across Rt. 7 from Red Robin. It's
	 next to a Sunoco station (with a touchless carwash!). There is plenty of 
	parking. &lt\;/span&gt\;&lt\;/p&gt\;\n&lt\;p&gt\; &lt\;/p&gt\;\n&lt\;p&gt\
	;&lt\;span style=\"color:#006400\;\"&gt\;Bonus: You get to meet my parents
	 (if you haven't already). &lt\;/span&gt\;&lt\;/p&gt\;\n \n
DTSTART:20111222T233000Z
DTEND:20111223T020000Z
END:VEVENT
END:VCALENDAR
