BEGIN:VCALENDAR
VERSION:2.0
PRODID:-//InvisionCommunity Events 4.7.24//EN
METHOD:PUBLISH
CALSCALE:GREGORIAN
REFRESH-INTERVAL:PT15M
X-PUBLISHED-TTL:PT15M
X-WR-CALNAME:DCMM Club Calendar
NAME:DCMM Club Calendar
BEGIN:VTIMEZONE
TZID:Europe/London
TZURL:http://tzurl.org/zoneinfo/Europe/London
X-LIC-LOCATION:Europe/London
BEGIN:DAYLIGHT
TZOFFSETFROM:+0000
TZOFFSETTO:+0100
TZNAME:BST
DTSTART:20110327T020000Z
RRULE:FREQ=YEARLY;BYMONTH=3;BYDAY=-1SU
END:DAYLIGHT
BEGIN:STANDARD
TZOFFSETFROM:+0100
TZOFFSETTO:+0000
TZNAME:GMT
DTSTART:20111030T020000Z
RRULE:FREQ=YEARLY;BYMONTH=10;BYDAY=-1SU
END:STANDARD
END:VTIMEZONE
BEGIN:VEVENT
SUMMARY:Happy Hour at Public House No. 7
DTSTAMP:20110705T234912Z
SEQUENCE:0
UID:165-1-481082abbf5b614c3f843e6f2c1af318@dcmetrominis.org
ORGANIZER;CN="GreenCactus":webmaster@dcmetrominis.org
DESCRIPTION:\n \n&lt\;p&gt\;Happy Hour!&lt\;/p&gt\;\n&lt\;p&gt\; &lt\;
	/p&gt\;\n&lt\;p&gt\;Wednesday\, July 13th @ 6:30pm&lt\;/p&gt\;\n&lt\;p&gt\
	; &lt\;/p&gt\;\n&lt\;p&gt\;Public House No 7&lt\;/p&gt\;\n&lt\;p&gt\;6315
	 Leesburg Pike&lt\;/p&gt\;\n&lt\;p&gt\;Falls Church\, VA&lt\;/p&gt\;\n&lt\
	;p&gt\; &lt\;/p&gt\;\n&lt\;p&gt\;Check out their website - &lt\;a href=\"
	http://www.publichouseno7.com\" rel=\"external nofollow\"&gt\;http://www.p
	ublichouseno7.com&lt\;/a&gt\;&lt\;/p&gt\;\n&lt\;p&gt\; &lt\;/p&gt\;\n&lt\
	;p&gt\;Plenty of parking in the front and back!&lt\;/p&gt\;\n \n
DTSTART:20110713T233000Z
DTEND:20110714T013000Z
END:VEVENT
END:VCALENDAR
