BEGIN:VCALENDAR
VERSION:2.0
PRODID:-//InvisionCommunity Events 4.7.24//EN
METHOD:PUBLISH
CALSCALE:GREGORIAN
REFRESH-INTERVAL:PT15M
X-PUBLISHED-TTL:PT15M
X-WR-CALNAME:DCMM Club Calendar
NAME:DCMM Club Calendar
BEGIN:VTIMEZONE
TZID:Europe/London
TZURL:http://tzurl.org/zoneinfo/Europe/London
X-LIC-LOCATION:Europe/London
BEGIN:DAYLIGHT
TZOFFSETFROM:+0000
TZOFFSETTO:+0100
TZNAME:BST
DTSTART:20110327T020000Z
RRULE:FREQ=YEARLY;BYMONTH=3;BYDAY=-1SU
END:DAYLIGHT
BEGIN:STANDARD
TZOFFSETFROM:+0100
TZOFFSETTO:+0000
TZNAME:GMT
DTSTART:20111030T020000Z
RRULE:FREQ=YEARLY;BYMONTH=10;BYDAY=-1SU
END:STANDARD
END:VTIMEZONE
BEGIN:VEVENT
SUMMARY:Passport MINI Royal Party
DTSTAMP:20110427T144450Z
SEQUENCE:0
UID:152-1-481082abbf5b614c3f843e6f2c1af318@dcmetrominis.org
ORGANIZER;CN="GreenCactus":webmaster@dcmetrominis.org
DESCRIPTION:\n \n&lt\;p&gt\;&lt\;/p&gt\;\n&lt\;div style=\"text-align:c
	enter\;\"&gt\;\n&lt\;p&gt\;&lt\;strong&gt\;Passport MINI Royal Party&lt\;/
	strong&gt\;&lt\;/p&gt\;\n&lt\;p&gt\; &lt\;/p&gt\;\n&lt\;p&gt\;You are cor
	dially invited to &lt\;/p&gt\;\n&lt\;p&gt\;celebrate the Royal Wedding and
	 be British for the day&lt\;/p&gt\;\n&lt\;p&gt\;at Passport MINI's viewing
	 tea party&lt\;/p&gt\;\n&lt\;p&gt\; &lt\;/p&gt\;\n&lt\;p&gt\;&lt\;em&gt\;
	Passport MINI Showroom&lt\;/em&gt\;&lt\;/p&gt\;\n&lt\;p&gt\;&lt\;em&gt\;59
	90 Duke Street\, Alexandria VA&lt\;/em&gt\;&lt\;/p&gt\;\n&lt\;p&gt\;&lt\;e
	m&gt\;12:00pm to 2:00pm&lt\;/em&gt\;&lt\;/p&gt\;\n&lt\;p&gt\;&lt\;em&gt\;
	 &lt\;/em&gt\;&lt\;/p&gt\;\n&lt\;p&gt\;Enjoy tea and cupcakes&lt\;/p&gt\;
	\n&lt\;p&gt\;Watch the Royal Wedding&lt\;/p&gt\;\n&lt\;p&gt\;Wear your bes
	t British fashion!&lt\;/p&gt\;\n&lt\;p&gt\; &lt\;/p&gt\;\n&lt\;p&gt\;Ther
	e will be prizes for originality and the best hat!&lt\;/p&gt\;\n&lt\;p&gt\
	; &lt\;/p&gt\;\n&lt\;p&gt\;Please RSVP to &lt\;a href=\"mailto:\" rel=\"\
	"&gt\;david.hellmuth@passportmini.com&lt\;/a&gt\; by the end of the day on
	 Wednesday! &lt\;/p&gt\;\n&lt\;/div&gt\;\n&lt\;p&gt\;&lt\;/p&gt\;\n&lt\;p&
	gt\;&lt\;/p&gt\;\n \n
DTSTART:20110429T170000Z
DTEND:20110429T190000Z
END:VEVENT
END:VCALENDAR
