BEGIN:VCALENDAR
VERSION:2.0
PRODID:-//InvisionCommunity Events 4.7.24//EN
METHOD:PUBLISH
CALSCALE:GREGORIAN
REFRESH-INTERVAL:PT15M
X-PUBLISHED-TTL:PT15M
X-WR-CALNAME:DCMM Club Calendar
NAME:DCMM Club Calendar
BEGIN:VTIMEZONE
TZID:Europe/London
TZURL:http://tzurl.org/zoneinfo/Europe/London
X-LIC-LOCATION:Europe/London
BEGIN:DAYLIGHT
TZOFFSETFROM:+0000
TZOFFSETTO:+0100
TZNAME:BST
DTSTART:20110327T020000Z
RRULE:FREQ=YEARLY;BYMONTH=3;BYDAY=-1SU
END:DAYLIGHT
BEGIN:STANDARD
TZOFFSETFROM:+0100
TZOFFSETTO:+0000
TZNAME:GMT
DTSTART:20111030T020000Z
RRULE:FREQ=YEARLY;BYMONTH=10;BYDAY=-1SU
END:STANDARD
END:VTIMEZONE
BEGIN:VEVENT
SUMMARY:Monthly Dinner and \"Story Time\"
DTSTAMP:20110418T114229Z
SEQUENCE:0
UID:151-1-481082abbf5b614c3f843e6f2c1af318@dcmetrominis.org
ORGANIZER;CN="cmcveay":webmaster@dcmetrominis.org
DESCRIPTION:\n \n&lt\;p&gt\;5:30 p.m.\, Saturday\, May 7th&lt\;/p&gt\;\
	n&lt\;p&gt\;UNO Chicago Grill&lt\;/p&gt\;\n&lt\;p&gt\;3058 Gatehouse Plaza
	&lt\;/p&gt\;\n&lt\;p&gt\;Falls Church VA.\, 22042&lt\;/p&gt\;\n&lt\;p&gt\;
	 &lt\;/p&gt\;\n&lt\;p&gt\;Welcome back from the Dragon for the veterans o
	f MOTD 9! Since MOTD 9 is officially the largest ever MOTD event (over 525
	 cars and 800 + people registered) It's time to get together to swap stori
	es and photo's from the great dragon slaying adventure!&lt\;/p&gt\;\n&lt\;
	p&gt\; &lt\;/p&gt\;\n&lt\;p&gt\;Of course\, there's also the car wash rig
	ht across the parking lot just in case anyone hasn't washed the road grime
	 off yet so you can get that done as well.&lt\;/p&gt\;\n&lt\;p&gt\; &lt\;
	/p&gt\;\n&lt\;p&gt\;Look forward to seeing everyone out there!&lt\;/p&gt\;
	\n&lt\;p&gt\; &lt\;/p&gt\;\n&lt\;p&gt\;Here's a link to the menu:&lt\;/p&
	gt\;\n&lt\;p&gt\;&lt\;a href=\"http://www.unos.com/menus/\" rel=\"external
	 nofollow\"&gt\;http://www.unos.com/menus/&lt\;/a&gt\;&lt\;/p&gt\;\n \n
DTSTART:20110507T000000Z
END:VEVENT
END:VCALENDAR
