BEGIN:VCALENDAR
VERSION:2.0
PRODID:-//InvisionCommunity Events 4.7.24//EN
METHOD:PUBLISH
CALSCALE:GREGORIAN
REFRESH-INTERVAL:PT15M
X-PUBLISHED-TTL:PT15M
X-WR-CALNAME:DCMM Club Calendar
NAME:DCMM Club Calendar
BEGIN:VTIMEZONE
TZID:Europe/London
TZURL:http://tzurl.org/zoneinfo/Europe/London
X-LIC-LOCATION:Europe/London
BEGIN:DAYLIGHT
TZOFFSETFROM:+0000
TZOFFSETTO:+0100
TZNAME:BST
DTSTART:20110327T020000Z
RRULE:FREQ=YEARLY;BYMONTH=3;BYDAY=-1SU
END:DAYLIGHT
BEGIN:STANDARD
TZOFFSETFROM:+0100
TZOFFSETTO:+0000
TZNAME:GMT
DTSTART:20111030T020000Z
RRULE:FREQ=YEARLY;BYMONTH=10;BYDAY=-1SU
END:STANDARD
END:VTIMEZONE
BEGIN:VEVENT
SUMMARY:BMW CCA - National Capital Chapter - Autocross
DTSTAMP:20110407T105543Z
SEQUENCE:0
UID:149-1-481082abbf5b614c3f843e6f2c1af318@dcmetrominis.org
ORGANIZER;CN="cmcveay":webmaster@dcmetrominis.org
DESCRIPTION:\n \n&lt\;p&gt\;&lt\;strong&gt\;BMW CCA - National Capital 
	Chapter - Autocross Saturday Apr 23&lt\;/strong&gt\;&lt\;/p&gt\;\n&lt\;p&g
	t\; &lt\;/p&gt\;\n&lt\;p&gt\;&lt\;strong&gt\;Old Dominion Speedway\, Mana
	ssas\, VA&lt\;/strong&gt\;&lt\;/p&gt\;\n&lt\;p&gt\; &lt\;/p&gt\;\n&lt\;p&
	gt\; &lt\;/p&gt\;\n&lt\;p&gt\;This is their second event of the season an
	d it's lots of fun with a good group of people.&lt\;/p&gt\;\n&lt\;p&gt\; 
	&lt\;/p&gt\;\n&lt\;p&gt\;For more information and registration\, the BMW C
	CA autocross website can be found here:&lt\;/p&gt\;\n&lt\;p&gt\;&lt\;a hre
	f=\"http://www.nccbmwcca.org\" rel=\"external nofollow\"&gt\;http://www.nc
	cbmwcca.org&lt\;/a&gt\;&lt\;/p&gt\;\n \n
DTSTART:20110423T000000Z
END:VEVENT
END:VCALENDAR
