BEGIN:VCALENDAR
VERSION:2.0
PRODID:-//InvisionCommunity Events 4.7.24//EN
METHOD:PUBLISH
CALSCALE:GREGORIAN
REFRESH-INTERVAL:PT15M
X-PUBLISHED-TTL:PT15M
X-WR-CALNAME:DCMM Club Calendar
NAME:DCMM Club Calendar
BEGIN:VTIMEZONE
TZID:Europe/London
TZURL:http://tzurl.org/zoneinfo/Europe/London
X-LIC-LOCATION:Europe/London
BEGIN:DAYLIGHT
TZOFFSETFROM:+0000
TZOFFSETTO:+0100
TZNAME:BST
DTSTART:20110327T020000Z
RRULE:FREQ=YEARLY;BYMONTH=3;BYDAY=-1SU
END:DAYLIGHT
BEGIN:STANDARD
TZOFFSETFROM:+0100
TZOFFSETTO:+0000
TZNAME:GMT
DTSTART:20111030T020000Z
RRULE:FREQ=YEARLY;BYMONTH=10;BYDAY=-1SU
END:STANDARD
END:VTIMEZONE
BEGIN:VEVENT
SUMMARY:Meet up for dinner and social time!
DTSTAMP:20110306T152006Z
SEQUENCE:0
UID:143-1-481082abbf5b614c3f843e6f2c1af318@dcmetrominis.org
ORGANIZER;CN="cmcveay":webmaster@dcmetrominis.org
DESCRIPTION:\n \n&lt\;p&gt\;At the request of a club member\, here's th
	e plan for the next dinner!&lt\;/p&gt\;\n&lt\;p&gt\; &lt\;/p&gt\;\n&lt\;p
	&gt\;Red Robin (Yummmmmmm)&lt\;/p&gt\;\n&lt\;p&gt\; &lt\;/p&gt\;\n&lt\;p&
	gt\;Friday\, March 25th at 7 p.m.&lt\;/p&gt\;\n&lt\;p&gt\; &lt\;/p&gt\;\n
	&lt\;p&gt\;6331 Seven Corners Ctr&lt\;/p&gt\;\n&lt\;p&gt\;Falls Church\, V
	A 22044&lt\;/p&gt\;\n&lt\;p&gt\;(703) 531-1390&lt\;/p&gt\;\n \n
DTSTART:20110325T000000Z
END:VEVENT
END:VCALENDAR
