BEGIN:VCALENDAR
VERSION:2.0
PRODID:-//InvisionCommunity Events 4.7.24//EN
METHOD:PUBLISH
CALSCALE:GREGORIAN
REFRESH-INTERVAL:PT15M
X-PUBLISHED-TTL:PT15M
X-WR-CALNAME:DCMM Club Calendar
NAME:DCMM Club Calendar
BEGIN:VTIMEZONE
TZID:Europe/London
TZURL:http://tzurl.org/zoneinfo/Europe/London
X-LIC-LOCATION:Europe/London
BEGIN:DAYLIGHT
TZOFFSETFROM:+0000
TZOFFSETTO:+0100
TZNAME:BST
DTSTART:20110327T020000Z
RRULE:FREQ=YEARLY;BYMONTH=3;BYDAY=-1SU
END:DAYLIGHT
BEGIN:STANDARD
TZOFFSETFROM:+0100
TZOFFSETTO:+0000
TZNAME:GMT
DTSTART:20111030T020000Z
RRULE:FREQ=YEARLY;BYMONTH=10;BYDAY=-1SU
END:STANDARD
END:VTIMEZONE
BEGIN:VEVENT
SUMMARY:Mach V Open house!
DTSTAMP:20110222T131545Z
SEQUENCE:0
UID:142-1-481082abbf5b614c3f843e6f2c1af318@dcmetrominis.org
ORGANIZER;CN="cmcveay":webmaster@dcmetrominis.org
DESCRIPTION:\n \n&lt\;p&gt\;Hey DCMM! One of our vendors\, Mach V (fast
	mini.net) is hosting an open house just a few minutes drive from our Meet 
	and Greet at MINI of Sterling! :top:&lt\;/p&gt\;\n&lt\;p&gt\; &lt\;/p&gt\
	;\n&lt\;p&gt\;Mach V Spring Open House 2011 will happen on Saturday\, Marc
	h 19\, 2011\, 10am to 4pm. Come on down and hang out with other car enthus
	iasts. With any luck\, it'll be a gorgeous spring day\, but the event will
	 happen rain or shine. &lt\;/p&gt\;\n&lt\;p&gt\; &lt\;/p&gt\;\n&lt\;p&gt\
	;We'll have Open House sale specials\, door prizes and other goodies to gi
	ve away\, Paintless Dent Repair on-site\, burgers and dogs on the grill\, 
	and some more cool stuff I haven't fully worked out. I promise\, it'll be 
	a good time.&lt\;/p&gt\;\n \n
DTSTART:20110319T000000Z
END:VEVENT
END:VCALENDAR
